BEGIN:VCALENDAR
VERSION:2.0
PRODID:-//wp-events-plugin.com//7.2.3.1//EN
TZID:Europe/Berlin
X-WR-TIMEZONE:Europe/Berlin
BEGIN:VEVENT
UID:727@vtad.de
DTSTART;TZID=Europe/Berlin:20230816T180000
DTEND;TZID=Europe/Berlin:20230816T210000
DTSTAMP:20230623T092834Z
URL:https://www.vtad.de/rgt/gemuetliches-sommertreffen/
SUMMARY:Gemütliches Sommertreffen
DESCRIPTION:Liebe Mitglieder und Freunde der VTAD Nürnberg\,\n\nwährend d
 er Sommerferien im August findet in Nürnberg traditionell keine Vortragsv
 eranstaltung statt. Um den Austausch zwischen den Mitgliedern auch währen
 d der Urlaubszeit nicht abreißen zu lassen\, wollen wir uns in gemütlich
 er Atmosphäre zum Sommerstammtisch treffen.  Eine separate Infomail geht
  noch raus.\n\nWann: Mittwoch\, 16. August 2023\,  ab 18:00 Uhr\n\nWo: S
 teiner's\n\nTucherstrasse 21\, 90403 Nürnberg\n\nhttps://www.steiners.de\
 n\nEs ist ein Tisch für 10 Personen auf den Namen "Heimann" reserviert.\n
 \nHerzliche Grüße\,\n\nIhr Team der VTAD-Regionalgruppe Nürnberg
CATEGORIES:Nürnberg
LOCATION:Steiners
X-APPLE-STRUCTURED-LOCATION;VALUE=URI;X-ADDRESS=Tucherstrasse 21\, 90403 N
 ürnberg\, Deutschland;X-APPLE-RADIUS=100;X-TITLE=Steiners:geo:0,0
END:VEVENT
BEGIN:VTIMEZONE
TZID:Europe/Berlin
X-LIC-LOCATION:Europe/Berlin
BEGIN:DAYLIGHT
DTSTART:20230326T030000
TZOFFSETFROM:+0100
TZOFFSETTO:+0200
TZNAME:CEST
END:DAYLIGHT
END:VTIMEZONE
END:VCALENDAR