BEGIN:VCALENDAR
VERSION:2.0
PRODID:-//wp-events-plugin.com//7.2.3.1//EN
TZID:Europe/Berlin
X-WR-TIMEZONE:Europe/Berlin
BEGIN:VEVENT
UID:604@vtad.de
DTSTART;TZID=Europe/Berlin:20230112T183000
DTEND;TZID=Europe/Berlin:20230112T210000
DTSTAMP:20230113T082042Z
URL:https://www.vtad.de/rgt/gruendung-einer-vermoegensverwaltenden-gmbh-tr
 ading-gmbh/
SUMMARY:Steuern runter\, Rendite rauf - Steueroptimiertes Investieren mit d
 er Trading-GmbH
DESCRIPTION:Vortragsunterlagen: [members_logged_in] 20230112_RIDE x VTAD[/m
 embers_logged_in]\nJeder Privatanleger der an der Börse aktiv ist\, sei e
 s als Kurzfristtrader oder Langfristanleger\, kommt jährlich im Rahmen se
 iner Steuererklärung mit dem deutschen Steuerrecht in Berührung. Wurden 
 im abgelaufenen Börsenjahr ordentliche Gewinne eingefahren\, so werden au
 ch entsprechend hohe Steuern fällig. Manch einer stellt sich dann die Fra
 ge\, welche Möglichkeiten es gibt\, die Steuerlast auf Kapitaleinkünfte 
 zu optimieren. „Da kann man nicht viel machen...?“ - Doch! Eine Tradin
 g-GmbH bietet mächtige Möglichkeiten\, um die Steuerlast beim Trading zu
  senken. Beispielsweise muss eine vermögensverwaltende GmbH nur ca. 1\,54
 % Steuern auf Aktien-Veräußerungsgewinne zahlen.\n&nbsp\;\nUnter dem Tit
 el „Steuern runter\, Rendite rauf - Steueroptimiertes Investieren mit de
 r Trading-GmbH“ erklären am heutigen Abend Daniel Gänswein und Jan Kem
 pfert von Ride Capital GmbH in unserer Regionalgruppe Nürnberg was eine v
 ermögensverwaltende GmbH ist\, wie sie funktioniert\, was zu beachten ist
   und für wen sie sich lohnt.\n&nbsp\;\nIhre Referenten: Herr Gänswein 
 und Herr Kempfert von Ride Capital GmbH\n \nBitte beachten Sie:\nTeilnahm
 e für Gäste (Nicht-Mitglieder) nur nach vorheriger Anmeldung per Mail an
 : rm.nuernberg@vtad.de\nEinlass ab 17:45h\, ab 18:30h ist kein Einlass meh
 r möglich\, wir bitten um pünktliches Erscheinen!\n 
CATEGORIES:Nürnberg
LOCATION:eckstein haus der evang.-luth. kirche nürnberg
X-APPLE-STRUCTURED-LOCATION;VALUE=URI;X-ADDRESS=Burgstrasse 1-3\, Raum 1.01
 \, Nürnberg\, 90403 \, Bayern\, Deutschland;X-APPLE-RADIUS=100;X-TITLE=ec
 kstein haus der evang.-luth. kirche nürnberg:geo:0,0
END:VEVENT
BEGIN:VTIMEZONE
TZID:Europe/Berlin
X-LIC-LOCATION:Europe/Berlin
BEGIN:STANDARD
DTSTART:20221030T020000
TZOFFSETFROM:+0200
TZOFFSETTO:+0100
TZNAME:CET
END:STANDARD
END:VTIMEZONE
END:VCALENDAR