BEGIN:VCALENDAR
VERSION:2.0
PRODID:-//wp-events-plugin.com//7.2.3.1//EN
TZID:Europe/Berlin
X-WR-TIMEZONE:Europe/Berlin
BEGIN:VEVENT
UID:869@vtad.de
DTSTART;TZID=Europe/Berlin:20240717T183000
DTEND;TZID=Europe/Berlin:20240717T213000
DTSTAMP:20240617T132213Z
URL:https://www.vtad.de/rgt/gruppendiskussion-mit-liveschaltung-ausstieg-i
 st-weit-mehr-als-nur-stop-loss/
SUMMARY:Gruppendiskussion mit Liveschaltung: Ausstieg ist weit mehr als nur
  Stop-Loss
DESCRIPTION:WO: Los Chicos\, Andreastr.7\, 40213 Düsseldorf-Altstadt \n\nW
 ANN: 17.07.2024 18:30 h\n\nWAS: Gruppendiskussion mit Liveschaltung: Ausst
 ieg ist weit mehr als nur Stop-Loss\n\n\n\n\n\n\n\n!!!Bitte den zu sonst a
 bweichenden Veranstaltungsort beachten!\n\n\n\n\n\n\n\nEin Trade in einer 
 Aktie\, ETF etc. ist ein bisschen wie eine Zugfahrt mit der Deutschen Bahn
 . Wo man einsteigt\, weiß man immer und jede Strategie\, die im Rahmen vo
 n Vortragsveranstaltungen vorgestellt wird\, behandelt das ausführlich. B
 eim Ausstieg wird es schon schwieriger: Da stehen verschiedene Möglichkei
 ten zur Verfügung und um die Analogie mit der Deutschen Bahn zu bemühen 
 gibt es z.B. in Hamburg im Fernverkehr gleich vier verschiedene Ausstiegss
 tationen und in auch Berlin kann ein anderer innerstädtischer Halt als de
 r Hauptbahnhof weniger an zeitlichem Gesamtaufwand bzw. zurückübertragen
  auf das Trading mehr an Performance bringen.\n\nHeute abend wollen wir da
 s Thema Ausstieg in all seinen Facetten beleuchten und haben dafür die et
 was vertraulichere Athmosphäre im Restaurant gewählt (ein Flipchart und 
 ein Laptop sind trotzdem vorhanden). Ausgangspunkt sind zwei Abbildungen\,
  die bereits im Januar gezeigt wurden und die meisten Aspekte zum Thema be
 reits beinhalten - diesmal aber direkt aus dem Chartprogramm heraus und ni
 cht als Bestsandteil einer Powerpoint damit wir nach Belieben Zoomen könn
 en.\n\nAnknüpfend an die Veranstaltung vom Sommer 2023 gibt es um 19:45 h
  wieder eine Liveschaltung zu einem namhaften Tradingsexperten per Zoom\, 
 damit wir auch die psychologischen Aspekte des Ausstiegs bzw. der Stop-Set
 zung ausreichend beleuchten können. Ziel ist\, das Thema bis zur Live-Sch
 altung in eigener Regie in allen seinen Facetten erarbeitet zu haben.
CATEGORIES:Düsseldorf
END:VEVENT
BEGIN:VTIMEZONE
TZID:Europe/Berlin
X-LIC-LOCATION:Europe/Berlin
BEGIN:DAYLIGHT
DTSTART:20240331T030000
TZOFFSETFROM:+0100
TZOFFSETTO:+0200
TZNAME:CEST
END:DAYLIGHT
END:VTIMEZONE
END:VCALENDAR