BEGIN:VCALENDAR
VERSION:2.0
PRODID:-//wp-events-plugin.com//7.2.3.1//EN
TZID:Europe/Berlin
X-WR-TIMEZONE:Europe/Berlin
BEGIN:VEVENT
UID:709@vtad.de
DTSTART;TZID=Europe/Berlin:20230719T183000
DTEND;TZID=Europe/Berlin:20230719T204500
DTSTAMP:20230511T111218Z
URL:https://www.vtad.de/rgt/gruppendiskussion-mit-liveschaltung-mentale-as
 pekte-des-intraday-tradings/
SUMMARY:Gruppendiskussion mit Liveschaltung: Mentale Aspekte des intraday-T
 radings
DESCRIPTION:WO: Los Chicos\, Andreastr.7\, 40213 Düsseldorf-Altstadt\n\nWA
 NN: 19.07.2023 18:30 h\n\nWAS: Gruppendiskussion mit Liveschaltung: Mental
 e Aspekte des intraday-Tradings\n\n▮▮▮▮▮▮▮▮▮▮▮▮▮
 ▮▮▮▮▮▮▮▮▮▮▮▮▮▮▮▮▮▮▮▮▮▮▮▮
 ▮▮▮▮▮▮▮▮▮\n\n!!!Bitte den zu sonst abweichenden Veransta
 ltungsort beachten!\n\n▮▮▮▮▮▮▮▮▮▮▮▮▮▮▮▮▮
 ▮▮▮▮▮▮▮▮▮▮▮▮▮▮▮▮▮▮▮▮▮▮▮▮
 ▮▮▮▮▮\n\nIntrayday-Trading ist für manche ein Muss\, wenn man z
 .B. an professionelle Future-Händler denkt. Andere steigen aufgrund eines
  EoD-Setups ein und landen dann eher unfreiwillig auf der min5-Ebene wenn 
 sie den Ausstieg optimieren wollen\, was in amerikanischen Aktien einen hi
 mmelweiten Unterschied in der Performance ausmachen kann.\n\n▯\n\nLeider
  ist „reines Intradaytrading“ (so hat es mal ein befreundeter Trader f
 ormuliert) mental unglaublich anstrengend und man ist sofern es um Aktien 
 geht schon mal gut beraten\, wenn man sich mit amerikanischen und nicht mi
 t deutschen Aktien beschäftigt einfach schon deswegen weil dort die Hande
 lszeit nur sechseinhalb und nicht achteinhalb Stunden wie in Deutschland b
 eträgt.\n\n▯\n\nDas ist aber nur eine Arbeitsvereinfachung die Vorauswa
 hl betreffend\, konkret wollen wir heute sprechen über mentale und andere
  Tricks und Kniffe\, wie wir uns vor dem Bildschirm fit und wach halten k
 önnen\, damit wir die vorher anhand von Musterbeispielen trainierte Ausst
 iegssituation auch möglichst wirklich realtime mitbekommen und nicht gera
 de mit einem Beutel Eiswürfel auf dem Kopf auf dem Bett liegen oder gerad
 e in der Küche sind\, um uns einen Kaffee aufzusetzen wenn es spannend wi
 rd.\n\n▯\n\nJeder Input kommt heute von euch selber - um die Sache etwas
  besser zu strukturieren schalten wir nach einer Stunde für 15 Miniuten v
 ia Zoom zu Tradingsexperte und Mentalcoach Dr. Raimund Schriek nach Amrum 
 und gleichen uns mit ihm ab.\n\n&nbsp\;\n\nBringt also alles mit\, was ihr
  an persönlichen Erfahrungen habt und bleibt weiter lernfähig.\n\n▯\n\
 nZur o.g. Veranstaltung lade ich herzlich ein.\nMit besten Wünschen für 
 ein erfolgreiches Trading\,\n▯▯▯▯▯▯▯▯▯▯▯▯▯▯▯
 ▯▯▯▯▯▯▯▯▯▯▯▯▯▯▯▯▯▯▯▯▯▯▯▯
 ▯▯▯▯▯▯▯\nschönen Gruß\nJörg Göttert\n\nRegioLeiter Düss
 eldorf
CATEGORIES:Düsseldorf
END:VEVENT
BEGIN:VTIMEZONE
TZID:Europe/Berlin
X-LIC-LOCATION:Europe/Berlin
BEGIN:DAYLIGHT
DTSTART:20230326T030000
TZOFFSETFROM:+0100
TZOFFSETTO:+0200
TZNAME:CEST
END:DAYLIGHT
END:VTIMEZONE
END:VCALENDAR