BEGIN:VCALENDAR
VERSION:2.0
PRODID:-//wp-events-plugin.com//7.2.3.1//EN
TZID:Europe/Berlin
X-WR-TIMEZONE:Europe/Berlin
BEGIN:VEVENT
UID:922@vtad.de
DTSTART;TZID=Europe/Berlin:20250313T183000
DTEND;TZID=Europe/Berlin:20250313T210000
DTSTAMP:20241103T084516Z
URL:https://www.vtad.de/rgt/hedging-mit-optionen/
SUMMARY:Hedging mit Optionen
DESCRIPTION:Hedging mit Optionen – Effektiver Schutz vor Aktiencrashs\n\n
 In diesem Vortrag stellt Alexander Eichhorn vor\, wie Anleger mithilfe von
  Optionen gezielt Absicherungsstrategien entwickeln können\, um ihre Port
 folios vor drastischen Kurseinbrüchen zu schützen. Zunächst werden die 
 Grundlagen des Hedging und die Funktionsweise von Optionsstrategien wie Pu
 ts und Spreads erläutert. Im Fokus steht die Anpassung dieser Strategien 
 an individuelle Risikoprofile\, um Verluste zu begrenzen und Chancen zu er
 halten. Anhand praxisnaher Beispiele und Analysen vermittelt der Vortrag e
 ffektive Techniken des Risikomanagements und richtet sich an alle\, die ih
 re Portfolios besser absichern möchten.\n\nAlexander Eichhorn ist hauptbe
 ruflicher Händler und Investor. Er ist Gründer von Eichhorn Coaching u
 nd Portfoliomanager der Vermögensverwaltung Bothe &amp\; Eichhorn Capita
 l.
CATEGORIES:Stuttgart
LOCATION:Haus der Wirtschaft
X-APPLE-STRUCTURED-LOCATION;VALUE=URI;X-ADDRESS= Willi-Bleicher-Straße 19\
 , Stuttgart\, 71174\, Deutschland;X-APPLE-RADIUS=100;X-TITLE=Haus der Wirt
 schaft:geo:0,0
END:VEVENT
BEGIN:VTIMEZONE
TZID:Europe/Berlin
X-LIC-LOCATION:Europe/Berlin
BEGIN:STANDARD
DTSTART:20241027T020000
TZOFFSETFROM:+0200
TZOFFSETTO:+0100
TZNAME:CET
END:STANDARD
END:VTIMEZONE
END:VCALENDAR