BEGIN:VCALENDAR
VERSION:2.0
PRODID:-//wp-events-plugin.com//7.2.3.1//EN
TZID:Europe/Berlin
X-WR-TIMEZONE:Europe/Berlin
BEGIN:VEVENT
UID:1018@vtad.de
DTSTART;TZID=Europe/Berlin:20250605T183000
DTEND;TZID=Europe/Berlin:20250605T200000
DTSTAMP:20250414T115949Z
URL:https://www.vtad.de/rgt/ichimoku-kinko-hyo-warum-schwer-wenn-es-auch-e
 infach-geht-4/
SUMMARY:Ichimoku Kinko Hyo\, warum schwer wenn es auch einfach geht?
DESCRIPTION:Ichimoku Kinko Hyo bedeutet frei übersetzt „Alles auf einen 
 Blick“. Es ist eine Methode der technischen Analyse\, welche für die me
 isten Marktteilnehmer ein Buch mit 7 Siegeln zu sein scheint.\n\nDer Refer
 ent nutzt dieses japanische Trendfolgesystem für seine Investments seit m
 ehreren Jahren und er weist darauf hin\, dass er mit den Ichimoku-Indikato
 ren Kursverläufe mit hoher Wahrscheinlichkeit vorherberechnen kann.\n\nI
 n dieser Veranstaltung stellt der Referent die Ichimoku Indikatoren vor un
 d wird an Hand der Indikatoren Aussagen zukünftiger Kursverläufe präsen
 tieren\, welche aus eigenen Aktien-Beispielen\, aber auch gern aus Wunsch-
 Aktien der Vortragsteilnehmer\, bestehen.\n\nWunschkandidaten zur Analyse 
 bitten wir bis spätestens 02.06.2025 an die Emailadresse marketing@simp
 el-invest.de an den Referenten senden.\n\nDer Referent:\nUwe Troche ist a
 ls Privatinvestor tätig und gründete im Jahre 2013 den bundesweit tätig
 en Informationsdienst: „Simpel-Invest “(www.simpel-invest.de). Hier l
 ässt er seine Kunden an seinen Investmententscheidungen mittels live geha
 ndelter Musterdepots praktisch teilhaben\, gemäß dem Motto: „Sehen hei
 ßt glauben.“
CATEGORIES:Stuttgart
LOCATION:Haus der Wirtschaft
X-APPLE-STRUCTURED-LOCATION;VALUE=URI;X-ADDRESS= Willi-Bleicher-Straße 19\
 , Stuttgart\, 71174\, Deutschland;X-APPLE-RADIUS=100;X-TITLE=Haus der Wirt
 schaft:geo:0,0
END:VEVENT
BEGIN:VTIMEZONE
TZID:Europe/Berlin
X-LIC-LOCATION:Europe/Berlin
BEGIN:DAYLIGHT
DTSTART:20250330T030000
TZOFFSETFROM:+0100
TZOFFSETTO:+0200
TZNAME:CEST
END:DAYLIGHT
END:VTIMEZONE
END:VCALENDAR