BEGIN:VCALENDAR
VERSION:2.0
PRODID:-//wp-events-plugin.com//7.2.3.1//EN
TZID:Europe/Berlin
X-WR-TIMEZONE:Europe/Berlin
BEGIN:VEVENT
UID:809@vtad.de
DTSTART;TZID=Europe/Berlin:20240130T183000
DTEND;TZID=Europe/Berlin:20240130T204500
DTSTAMP:20240122T095017Z
URL:https://www.vtad.de/rgt/ipos-top-oder-flop/
SUMMARY:IPOs - Top oder Flop?
DESCRIPTION:Dipl.-Volksw. Jörg Göttert: IPOs - Top oder Flop?\n\nNeuemiss
 ionen oder einfacher IPOs von Aktien wie die zum Zeitpunkt der Idee für d
 iesen Vortrag gerade an die Börse gekommene Birkenstock-Aktie können eno
 rm reüssieren\, aber auch genauso gut auf geradem Weg nach unten in den K
 eller rutschen\, z.B. Allbirds Inc. (Ticker: BIRD\, ISIN: US01675A1097).\n
 \nWovon hängt es ab\, ob ein IPO voraussichtlich erfolgreich sein wird un
 d wenn erfolgreich\, wie finde ich den richtigen Zeitpunkt für einen Eins
 tieg?\n\nIst es z.B. ein gutes Zeichen wenn ein bekannter Schauspieler fü
 r eine Aktie "in verführerischer Weise" Werbung macht\, vgl. https://www.
 youtube.com/watch?v=d5sypy9Osfg? Welche Rolle spielt die Branche und welch
 e\, wieviel Vorbesitzer die Aktie schon gehabt hat - ist es vielleicht ein
  Private Equity-Fonds der einfach nur Kasse machen will zu einem Zeitpunkt
  wo das durch die Aktie repräsentierte Unternehmen seine beste Zeit an de
 n Absatzmärkten bereits hinter sich hat?\n\nDiese und andere Fragen erör
 tern wir heute Abend in Vortrag und Diskussion. Musterbsp. für eine erfol
 greiche Aktie sind im Sinne der Fragestellung nicht nur Tenbagger wie Micr
 osoft\, Google (jetzt Alphabet) oder Amazon\, sondern insbesondere auch Ak
 tien wie Zoom Video oder Peloton\, die den Anlegern satte Gewinne beschert
  haben\, aber nur denen\, die verstanden haben\, dass man diese anders als
  bei Aktien aus der Kategorie der drei o.g. TechGiganten auch irgendwann e
 inmal sichern muss.
CATEGORIES:Düsseldorf
END:VEVENT
BEGIN:VTIMEZONE
TZID:Europe/Berlin
X-LIC-LOCATION:Europe/Berlin
BEGIN:STANDARD
DTSTART:20231029T020000
TZOFFSETFROM:+0200
TZOFFSETTO:+0100
TZNAME:CET
END:STANDARD
END:VTIMEZONE
END:VCALENDAR