BEGIN:VCALENDAR
VERSION:2.0
PRODID:-//wp-events-plugin.com//7.2.3.1//EN
TZID:Europe/Berlin
X-WR-TIMEZONE:Europe/Berlin
BEGIN:VEVENT
UID:763@vtad.de
DTSTART;TZID=Europe/Berlin:20240221T183000
DTEND;TZID=Europe/Berlin:20240221T210000
DTSTAMP:20240228T102510Z
URL:https://www.vtad.de/rgt/jahresausblick/
SUMMARY:Jahresausblick 2024
DESCRIPTION:Vortragsunterlagen: (für Mitglieder bitte einloggen): [members
 _logged_in] 20240221.vtadnürnberg[/members_logged_in]\n\nRobert Rethfeld 
 wird uns zu Beginn des Jahres seinen Ausblick auf die globalen Kapitalmär
 kte für 2024 vorstellen. Dabei durchleuchtet er traditionell Konjunkturin
 dikatoren\, Währungen\, Renten\, Edelmetalle und Rohstoffe sowie Aktien v
 erschiedener Länder und Sektoren.\n\nRobert Rethfeld betreibt die Intern
 etseite www.wellenreiter-invest.de\, die wirtschaftliche\, finanzielle un
 d gesellschaftliche Entwicklungen thematisiert. Er publiziert den täglich
  erscheinenden Börsenbrief „Wellenreiter-Frühausgabe“. Rethfeld ist 
 regelmäßiger Interviewpartner in den Medien und zudem langjähriges Mitg
 lied der Vereinigung Technischer Analysten Deutschlands VTAD.
CATEGORIES:Nürnberg
LOCATION:eckstein haus der evang.-luth. kirche nürnberg
X-APPLE-STRUCTURED-LOCATION;VALUE=URI;X-ADDRESS=Burgstrasse 1-3\, Raum 1.01
 \, Nürnberg\, 90403 \, Bayern\, Deutschland;X-APPLE-RADIUS=100;X-TITLE=ec
 kstein haus der evang.-luth. kirche nürnberg:geo:0,0
END:VEVENT
BEGIN:VTIMEZONE
TZID:Europe/Berlin
X-LIC-LOCATION:Europe/Berlin
BEGIN:STANDARD
DTSTART:20231029T020000
TZOFFSETFROM:+0200
TZOFFSETTO:+0100
TZNAME:CET
END:STANDARD
END:VTIMEZONE
END:VCALENDAR