BEGIN:VCALENDAR
VERSION:2.0
PRODID:-//wp-events-plugin.com//7.2.3.1//EN
TZID:Europe/Berlin
X-WR-TIMEZONE:Europe/Berlin
BEGIN:VEVENT
UID:618@vtad.de
DTSTART;TZID=Europe/Berlin:20230111T183000
DTEND;TZID=Europe/Berlin:20230111T210000
DTSTAMP:20230311T215857Z
URL:https://www.vtad.de/rgt/januar-termin/
SUMMARY:Nutze Optionen als wichtige Ergänzung oder manchmal sogar besseren
  Ersatz für direkten Aktienhandel!
DESCRIPTION:Nutze Optionen als wichtige Ergänzung oder manchmal sogar bess
 eren Ersatz für direkten Aktienhandel!\n\nEine kurze Einführung und eini
 ge fortgeschrittene Optionsstrategien\n\nReferent: Arun Chaudhuri\n\n&nbsp
 \;\n\nUnterlagen: Optionshandel_VTAD
CATEGORIES:München
END:VEVENT
BEGIN:VTIMEZONE
TZID:Europe/Berlin
X-LIC-LOCATION:Europe/Berlin
BEGIN:STANDARD
DTSTART:20221030T020000
TZOFFSETFROM:+0200
TZOFFSETTO:+0100
TZNAME:CET
END:STANDARD
END:VTIMEZONE
END:VCALENDAR