BEGIN:VCALENDAR
VERSION:2.0
PRODID:-//wp-events-plugin.com//7.2.3.1//EN
TZID:Europe/Berlin
X-WR-TIMEZONE:Europe/Berlin
BEGIN:VEVENT
UID:424@vtad.de
DTSTART;TZID=Europe/Berlin:20211110T190000
DTEND;TZID=Europe/Berlin:20211110T190000
DTSTAMP:20210617T054800Z
URL:https://www.vtad.de/rgt/joachim-lenz-asset-allocation-modelle-mit-akti
 en-gold-und-kryptowaehrungen/
SUMMARY:Joachim Lenz: Asset Allocation Modelle mit Aktien\, Gold und Krypto
 währungen
DESCRIPTION:Basierend auf dem Ivy-Portfolio des US-Vermögensverwalters Meb
 ane Faber (Ivy\, = Efeu\, weil es die Investmentstrategien der Stiftungen 
 altehrwürdiger amerikanischer Eliteuniversitäten nachbildet) werden erg
 änzende Assetklassen vorgestellt\, die eine möglichst geringe Korrelatio
 n zueinander aufweisen und daher gewährleisten\, dass man auch in schwier
 igen Marktphasen Geld verdient. Wobei das Ziel nicht eine möglichst hohe 
 Rendite\, sondern dessen Optimum (möglichst groß bei einem vom Anleger a
 ls vertretbar erachteten Drawdown) ist - mit anderen Worte geht es also um
  die Maximierung der Risikoadjustierten Rendite.\n\nJoachim Lenz ist Physi
 ker und entwickelt seit mehr als 2 Jahrzehnten Quantitative Anlagemodelle 
 und Handelssysteme. Er ist Preisträger des VTAD Award (2011).
CATEGORIES:Düsseldorf
END:VEVENT
BEGIN:VTIMEZONE
TZID:Europe/Berlin
X-LIC-LOCATION:Europe/Berlin
BEGIN:STANDARD
DTSTART:20211031T020000
TZOFFSETFROM:+0200
TZOFFSETTO:+0100
TZNAME:CET
END:STANDARD
END:VTIMEZONE
END:VCALENDAR