BEGIN:VCALENDAR
VERSION:2.0
PRODID:-//wp-events-plugin.com//7.2.3.1//EN
TZID:Europe/Berlin
X-WR-TIMEZONE:Europe/Berlin
BEGIN:VEVENT
UID:691@vtad.de
DTSTART;TZID=Europe/Berlin:20231023T183000
DTEND;TZID=Europe/Berlin:20231023T210000
DTSTAMP:20231024T134456Z
URL:https://www.vtad.de/rgt/kondratieff-ukraine-krieg-inflation-co-zyklent
 heorie-im-ueberblick-2/
SUMMARY:Kondratieff\, Ukraine-Krieg\, Inflation &amp\; Co. - Zyklentheorie 
 im Überblick (ACHTUNG: verschoben auf 23.10.2023!)
DESCRIPTION:Vortragsunterlagen (bitte einloggen!):[members_logged_in] 20231
 023_Reiss_SommerlicheAussichten[/members_logged_in]\n\nDer Kondratjew-Zyk
 lus\, benannt nach dem russischen Wirtschaftswissenschaftler Nikolai Dmitr
 ijewitsch Kondratjew (1892 – 1938)\, bezeichnet einen langen Wirtschafts
 zyklus mit einer Wellenlänge von ca. 50-60 Jahre. Diese Zyklen verband de
 r Ökonom Joseph Schumpeter jeweils mit einer Basisinnovation (z.B. Dampfm
 aschine\, Eisenbahn\, Elektrifizierung) was zur Popularität des Kondratje
 w-Zyklus beigetragen hat. Jeder dieser Zyklen hat jedoch auch eine innere 
 Struktur\, die Ian Gordon aufgezeigt hat. Er prägte damit die Jahreszeite
 n im Kondratjew-Zyklus und in jeder Jahreszeit gilt es\, die richtigen Ass
 et-Klassen zu allokieren. Im ersten Teil des Vortrags wird diese allgemein
 e Struktur vorgestellt und der aktuelle Standort im Kondratjew-Zyklus iden
 tifiziert.\n\nEine reine Betrachtung auf einen so langen Zyklus allein wir
 d vermutlich nicht jeden überzeugen. Daher werden unabhängig vom Kondrat
 jew-Zyklus demographische Trends und geopolitische Entwicklungen betrachte
 t. Diese unterstützen und bestätigen die Erkenntnisse und Prognosen aus 
 dem ersten Teil des Vortrags. Eine Quintessenz aus den beiden Betrachtunge
 n lautet\, dass Rohstoffe auf längere Sicht in diesem Umfeld zu favorisie
 ren sind. Daher wird zur Abrundung des Vortrages auf die fundamentale Situ
 ation verschiedener Rohstoffe eingegangen und deren aktuelle charttechnisc
 he Lage betrachtet.\n\nIhr Referent:\n\nDr. Oliver Reiß ist freiberuflich
 er Unternehmensberater für die Finanzindustrie mit Schwerpunkt auf Risiko
 controlling\, quantitative Analyse und zugehöriger IT-Umsetzungen. Seine 
 Forschungsarbeiten auf dem Gebiet der Technischen Analyse basieren auf der
  Übertragung mathematischer Techniken auf Finanzzeitreihen und die Entwic
 klung darauf basierender Handelssysteme. Seine Untersuchungen zur Empirica
 l Mode Decomposition wurden von der IFTA mit dem John Brooks Memorial Awar
 d ausgezeichnet. Er ist CFTe und MFTA und stellvertretender Regionalmanage
 r der Regionalgruppe Düsseldorf.
CATEGORIES:Nürnberg
LOCATION:eckstein haus der evang.-luth. kirche nürnberg
X-APPLE-STRUCTURED-LOCATION;VALUE=URI;X-ADDRESS=Burgstrasse 1-3\, Raum 1.01
 \, Nürnberg\, 90403 \, Bayern\, Deutschland;X-APPLE-RADIUS=100;X-TITLE=ec
 kstein haus der evang.-luth. kirche nürnberg:geo:0,0
END:VEVENT
BEGIN:VTIMEZONE
TZID:Europe/Berlin
X-LIC-LOCATION:Europe/Berlin
BEGIN:DAYLIGHT
DTSTART:20230326T030000
TZOFFSETFROM:+0100
TZOFFSETTO:+0200
TZNAME:CEST
END:DAYLIGHT
END:VTIMEZONE
END:VCALENDAR