BEGIN:VCALENDAR
VERSION:2.0
PRODID:-//wp-events-plugin.com//7.2.3.1//EN
TZID:Europe/Berlin
X-WR-TIMEZONE:Europe/Berlin
BEGIN:VEVENT
UID:591@vtad.de
DTSTART;TZID=Europe/Berlin:20220915T190000
DTEND;TZID=Europe/Berlin:20220915T190000
DTSTAMP:20220905T114955Z
URL:https://www.vtad.de/rgt/kondratieff-ukraine-krieg-inflation-co-zyklent
 heorie-im-ueberblick/
SUMMARY:Kondratieff\, Ukraine-Krieg\, Inflation &amp\; Co. - Zyklentheorie 
 im Überblick
DESCRIPTION:!!!: HEUTE IM Restaurant Cuccini\, Hüttenstraße 30\, Düsseld
 orf (19 h)!\n\nDr. Oliver Reiß: Kondratieff\, Ukraine-Krieg\, Inflation &
 amp\; Co. - Zyklentheorie im Überblick\n\n&nbsp\;\n\nHeute Abend gibt es 
 eine Preview auf einen Artikel von Dr. Oliver Reiß\, der in Kürze in der
  aktuellen VTAD-news zur Invest als Print und in elektronischer From ersch
 eint.\n\nWir alle erleben derzeit wie ein an sich regionaler Konflikt euro
 pa- und weltweite Auswirkungen nicht nur auf die Politik\, sondern eben au
 ch auf die Preise und die Börsen haben kann und hat. Kondratieff war ein 
 russischer Wirtschaftswissenschaftler\, der später von Stalin ermordet wo
 rden ist\, weil seine Theorien und Ableitungen für die Ökonomie nicht in
 s damalige Weltbild gepasst haben.\n\nInsofern ist unser Thema topaktuell\
 , auch wenn der Besagte in den dreißiger Jahren gelebt hat - der von ihm 
 entdeckte Zyklus ist übrigens der längste in seinem Fach überhaupt - we
 lche Relevanz er für uns als Börsianer und Ottonormalverbraucher bis heu
 te hat klären wir am heutigen Abend.
CATEGORIES:Düsseldorf
END:VEVENT
BEGIN:VTIMEZONE
TZID:Europe/Berlin
X-LIC-LOCATION:Europe/Berlin
BEGIN:DAYLIGHT
DTSTART:20220327T030000
TZOFFSETFROM:+0100
TZOFFSETTO:+0200
TZNAME:CEST
END:DAYLIGHT
END:VTIMEZONE
END:VCALENDAR