BEGIN:VCALENDAR
VERSION:2.0
PRODID:-//wp-events-plugin.com//7.2.3.1//EN
TZID:Europe/Berlin
X-WR-TIMEZONE:Europe/Berlin
BEGIN:VEVENT
UID:992@vtad.de
DTSTART;TZID=Europe/Berlin:20250410T183000
DTEND;TZID=Europe/Berlin:20250410T204500
DTSTAMP:20250127T160204Z
URL:https://www.vtad.de/rgt/krisensicher-und-chancenreich-erfolgreiches-st
 ockpicking-in-jeder-marktlage-2/
SUMMARY:Krisensicher und chancenreich: Erfolgreiches Stockpicking in jeder 
 Marktlage
DESCRIPTION:In einer Welt\, in der geopolitische Unruhen oder epidemische K
 risen jederzeit die Märkte erschüttern könnten\, ist es entscheidend\,
  ein aus sorgfältig ausgewählten Einzelwerten bestehendes Aktienportfol
 io aufzubauen\, das Stabilität und Rendite gleichermaßen vereint.\n\n&n
 bsp\;\n\nKrisensicher mit Einzeltiteln? Zugegeben\, das mag im ersten Mome
 nt wie eine Utopie erscheinen\, doch der Referent wird uns einen intellige
 nten Ansatz zeigen\, wie wir dies realisieren können. Dabei ist es entsch
 eidend\, auf zwei Hauptkategorien von Aktieninvestments zu vertrauen:\n\n 
 	Krisenresistente Werte: LargeCaps\, die sich in der Vergangenheit als rob
 uste Absicherung gegen Marktturbulenzen bewährt haben. Durch den Einsatz 
 unserer eigenen Algorithmen identifizieren wir vielversprechende Unternehm
 en\, die auch in herausfordernden Marktphasen mit bemerkenswerten Renditen
  glänzen konnten - selbst als der breite Markt eine Korrektur durchlief!\
 n\n\n 	Chancenreiche Werte: Small- und MicroCaps\, die vor allem in unsich
 eren Zeiten außergewöhnliche Kaufgelegenheiten bieten\, Marktineffizienz
 en gezielt nutzen und ein erhebliches Potenzial für überdurchschnittlich
 e Renditen aufweisen - denn Krisen bergen Chancen!\n\n&nbsp\;\n\nDer Schl
 üssel liegt darin\, in Aktien zu investieren\, die sowohl in Krisenzeiten
  Stabilität bewahren als auch derzeit attraktive Kaufchancen aufweisen 
 – eine\n\nsogenannte „Win-Win-Situation“ – ergänzt durch kleinere
  Investitionen in Unternehmen mit hohem Wachstumspotenzial.\n\n&nbsp\;\n\
 nIm Verlauf des Abends zeigt uns Patrick Oster Schritt für Schritt\, wie 
 wir solche Werte finden und uns ein Portfolio aufbauen\, das nicht nur kr
 isenresistent ist\, sondern auch in einem regulären Marktumfeld erfolgre
 ich besteht. Abschließend betrachten wir eine hierfür geeignete Risk- u
 nd Money-Management-\n\nStrategie (RMM)\, die im Wesentlichen die optimale
  Diversifizierung des Portfolios umfasst\, um nicht zuletzt unsystematisc
 he Risiken zu reduzieren und von Marktineffizienzen zu profitieren. Wir o
 rientieren uns dabei u. a. an den Prinzipien des „Effizienten Portfolio
 s nach Markowitz“\, insbesondere bei Investitionen in chancenreiche Sma
 ll- und MicroCaps.
CATEGORIES:Düsseldorf
END:VEVENT
BEGIN:VTIMEZONE
TZID:Europe/Berlin
X-LIC-LOCATION:Europe/Berlin
BEGIN:DAYLIGHT
DTSTART:20250330T030000
TZOFFSETFROM:+0100
TZOFFSETTO:+0200
TZNAME:CEST
END:DAYLIGHT
END:VTIMEZONE
END:VCALENDAR