BEGIN:VCALENDAR
VERSION:2.0
PRODID:-//wp-events-plugin.com//7.2.3.1//EN
TZID:Europe/Berlin
X-WR-TIMEZONE:Europe/Berlin
BEGIN:VEVENT
UID:834@vtad.de
DTSTART;TZID=Europe/Berlin:20240612T180000
DTEND;TZID=Europe/Berlin:20240612T210000
DTSTAMP:20240617T153154Z
URL:https://www.vtad.de/rgt/kryptowaehrungen-bitcoins-altcoins-co/
SUMMARY:Kryptowährungen: Bitcoins\, Altcoins &amp\; Co.
DESCRIPTION:ACHTUNG: aufgrund des umfangreichen Themas Beginn bereits um 18
 :00h !\n\nVortragsunterlagen (bitte einloggen !):  [members_logged_in] 5-
 1 Kryptogeld. Vorgeschichte\, Idee\, Ökosystem\, Depot\n\nVerein Fachbuch
 -Liste_Verein_2024-April[/members_logged_in]\n\nIn diesem Monat befassen w
 ir uns mit einer relativ jungen Assetklasse: Kryptowährungen.\n\nAls Refe
 renten haben wir Ludwig Wimmer vom VFG2020 zu Gast.\n\nIn seinem Vortrag w
 ird Herr Wimmer zunächst auf einige grundlegende Aspekte der Kryptowähru
 ngen eingehen: was ist die Idee der Kryptowährungen\, welche Kryptos gibt
  es\, seit wann gibt es sie\, was ist der Unterschied zu herkömmlichen W
 ährungen\, was sind die Potenziale und Gefahren…\n\nDer zweite Teil des
  Vortrages dreht sich dann um die Frage\, wie ein Depot mit Kryptowährung
 en aufgebaut werden kann und was dabei zu beachten ist.\n\nDer Referent:\n
 \nHerr Ludwig Wimmer ist freiberuflich in der Erwachsenenbildung an Volksh
 ochschulen und öffentlichen Bildungszentren als Referent tätig und vermi
 ttelt Wissen zur Geldanlage\, Aktien\, Finanzmärkte und finanzielle Alter
 svorsorge. Seine Spezialgebiete sind Edelmetalle und Kryptowährungen. Er 
 ist außerdem Vorstandsvorsitzender des „Verein für Finanzbildung und G
 eldanlage 2020 e.V.“ (vfg202.de).\n\n&nbsp\;
CATEGORIES:Nürnberg
LOCATION:eckstein haus der evang.-luth. kirche nürnberg
X-APPLE-STRUCTURED-LOCATION;VALUE=URI;X-ADDRESS=Burgstrasse 1-3\, Raum 1.01
 \, Nürnberg\, 90403 \, Bayern\, Deutschland;X-APPLE-RADIUS=100;X-TITLE=ec
 kstein haus der evang.-luth. kirche nürnberg:geo:0,0
END:VEVENT
BEGIN:VTIMEZONE
TZID:Europe/Berlin
X-LIC-LOCATION:Europe/Berlin
BEGIN:DAYLIGHT
DTSTART:20240331T030000
TZOFFSETFROM:+0100
TZOFFSETTO:+0200
TZNAME:CEST
END:DAYLIGHT
END:VTIMEZONE
END:VCALENDAR