BEGIN:VCALENDAR
VERSION:2.0
PRODID:-//wp-events-plugin.com//7.2.3.1//EN
TZID:Europe/Berlin
X-WR-TIMEZONE:Europe/Berlin
BEGIN:VEVENT
UID:921@vtad.de
DTSTART;TZID=Europe/Berlin:20241211T183000
DTEND;TZID=Europe/Berlin:20241211T210000
DTSTAMP:20241226T133849Z
URL:https://www.vtad.de/rgt/kurzvortraege-aus-den-eigenen-reihen/
SUMMARY:Kurzvorträge aus den eigenen Reihen
DESCRIPTION:Vortragsunterlagen Jürgen Arauner: [members_logged_in]  Jürg
 en Arauner_wikifolio ar[/members_logged_in]\n\nVortragsunterlagen Meltem Y
 ildirim: [members_logged_in] Bachelorarbeit - Kolloquium - M. Yildirim[/me
 mbers_logged_in]\n\nDas zu Ende gehende Börsenjahr ließen wir in diesem 
 Monat mit Vorträgen aus den eigenen Reihen ausklingen. Zwei Mitglieder ha
 tten sich bereiterklärt\, Kurzvorträge über ein Thema aus ihrem eigenen
  Börsenalltag zu halten. Jürgen Arauner referierte über "Wikifolio". Yv
 onne Köppel stellte online die Plattform "finviz.com" vor. Als dritte Ref
 erentin war Fr. Meltem Yildirim eingeladen\, die leider aus gesundheitlich
 en Gründen kurzfristig absagen mußte. Dennoch hat sie uns die Folien ihr
 es geplanten Vortrages zur Veröffentlichung zur Verfügung gestellt. Viel
 en Dank dafür an Frau Yildirim ! Es handelt sich dabei um das Kolloquium 
 für ihre bestandene Bachelorarbeit\, die sie mit Unterstützung der Mitgl
 ieder unserer Regionalgruppe erstellte.
CATEGORIES:Nürnberg
LOCATION:eckstein haus der evang.-luth. kirche nürnberg
X-APPLE-STRUCTURED-LOCATION;VALUE=URI;X-ADDRESS=Burgstrasse 1-3\, Raum 1.01
 \, Nürnberg\, 90403 \, Bayern\, Deutschland;X-APPLE-RADIUS=100;X-TITLE=ec
 kstein haus der evang.-luth. kirche nürnberg:geo:0,0
END:VEVENT
BEGIN:VTIMEZONE
TZID:Europe/Berlin
X-LIC-LOCATION:Europe/Berlin
BEGIN:STANDARD
DTSTART:20241027T020000
TZOFFSETFROM:+0200
TZOFFSETTO:+0100
TZNAME:CET
END:STANDARD
END:VTIMEZONE
END:VCALENDAR