BEGIN:VCALENDAR
VERSION:2.0
PRODID:-//wp-events-plugin.com//7.2.3.1//EN
TZID:Europe/Berlin
X-WR-TIMEZONE:Europe/Berlin
BEGIN:VEVENT
UID:710@vtad.de
DTSTART;TZID=Europe/Berlin:20230719T193000
DTEND;TZID=Europe/Berlin:20230719T194500
DTSTAMP:20230709T151236Z
URL:https://www.vtad.de/rgt/liveschaltung-zu-dr-raimund-schriek-ins-trader
 paradies-amrum/
SUMMARY:Liveschaltung via Zoom ins Traderparadies Amrum
DESCRIPTION:(diese Liveschaltung ist Bestandteil der von 18:30 - ca. 20:15 
 h dauernden Präsenzveranstaltung in Düsseldorf. Eine Teilnahme von zu Ha
 use aus ist leider nicht möglich und wäre auch nicht sinnvoll)
CATEGORIES:Düsseldorf
END:VEVENT
BEGIN:VTIMEZONE
TZID:Europe/Berlin
X-LIC-LOCATION:Europe/Berlin
BEGIN:DAYLIGHT
DTSTART:20230326T030000
TZOFFSETFROM:+0100
TZOFFSETTO:+0200
TZNAME:CEST
END:DAYLIGHT
END:VTIMEZONE
END:VCALENDAR