BEGIN:VCALENDAR
VERSION:2.0
PRODID:-//wp-events-plugin.com//7.2.3.1//EN
TZID:Europe/Berlin
X-WR-TIMEZONE:Europe/Berlin
BEGIN:VEVENT
UID:931@vtad.de
DTSTART;TZID=Europe/Berlin:20241114T183000
DTEND;TZID=Europe/Berlin:20241114T200000
DTSTAMP:20241101T102823Z
URL:https://www.vtad.de/rgt/market-profile-2/
SUMMARY:Market Profile®
DESCRIPTION:Market Profile®\n\nDas Market Profile wurde in den 1980ern vom
  Sojabohnenhändler Peter Steidlmayer zusammen mit der CBOT entwickelt mit
  dem Ziel\, einen tieferen Einblick in die Märkte zu bekommen.\n\nObwohl 
 sich die Märkte in den letzten Jahrzehnten dramatisch geändert haben –
  Stichwörter: elektronischer Handel und Ausdehnung der Handelszeiten - is
 t das Market Profile nach wie vor ein wertvolles Tool\, das dem Trader ein
 en tieferen Einblick in die Struktur der Futures-Märkte gibt. Und zwar ni
 cht aufgrund der mathematischen Ableitung historischer Preise\, wie Indika
 toren und Oszillatoren es tun\, sondern als statistischer Ansatz\, der Zei
 t\, Preis und Volumen des aktuellen Marktgeschehens verwendet.\nWird das V
 olumen stärker gewichtet\, dann wird aus dem Market Profile ein Volume Pr
 ofile.\n\nKarin Roller zeigt Ihnen in dem Vortrag\, wie das Market Profile
  konstruiert wird\, wie es seine charakteristische\, optischen Struktur be
 kommt und wie es im Trading profitabel verwendet werden kann.\n\nKarin Ro
 ller ist Traderin\, Autorin\, Technische Analystin (CFTe)\, Mitglied des 
 Vorstands der VTAD e.V. (Vereinigung Technischer Analysten Deutschlands) u
 nd leitet die Regionalgruppe Stuttgart. Mehr Infos unter www.boersen-know
 how.de\n\nMarket Profile® ist eine Registered Trademark von Peter Steidlm
 ayer / CBOT.
CATEGORIES:Stuttgart
LOCATION:Haus der Wirtschaft
X-APPLE-STRUCTURED-LOCATION;VALUE=URI;X-ADDRESS= Willi-Bleicher-Straße 19\
 , Stuttgart\, 71174\, Deutschland;X-APPLE-RADIUS=100;X-TITLE=Haus der Wirt
 schaft:geo:0,0
END:VEVENT
BEGIN:VTIMEZONE
TZID:Europe/Berlin
X-LIC-LOCATION:Europe/Berlin
BEGIN:STANDARD
DTSTART:20241027T020000
TZOFFSETFROM:+0200
TZOFFSETTO:+0100
TZNAME:CET
END:STANDARD
END:VTIMEZONE
END:VCALENDAR