BEGIN:VCALENDAR
VERSION:2.0
PRODID:-//wp-events-plugin.com//7.2.3.1//EN
TZID:Europe/Berlin
X-WR-TIMEZONE:Europe/Berlin
BEGIN:VEVENT
UID:586@vtad.de
DTSTART;TZID=Europe/Berlin:20221020T183000
DTEND;TZID=Europe/Berlin:20221020T200000
DTSTAMP:20220801T112625Z
URL:https://www.vtad.de/rgt/market-profile-und-volume-profile-die-andere-s
 icht-auf-den-markt/
SUMMARY:Market Profile und Volume Profile - Die andere Sicht auf den Markt
DESCRIPTION:Für eine andere – und auch bessere - Sicht auf den Markt ist
  ein Wechsel der Perspektive notwendig.\n\nIn diesem Vortrag stellen Ihnen
  Patrick Nill und seine Kollegen zwei Werkzeuge vor\, die das Kräfteverh
 ältnis der Marktteilnehmer aus einem anderen Blickwinkel betrachten.\n\nW
 erden die beiden Werkzeuge Market Profile und Volume Profile miteinander k
 ombiniert\, ermöglicht das zum einen die bestmögliche Sichtweise auf das
  Kräfteverhältnis der Handelsteilnehmer\, zum anderen werden auch die Gr
 enzbereiche der Märkte sichtbar. Diese Methode kann in multiplen Zeithori
 zonten angewendet werden\, sodass im Swing- und Positionstrading sehr exak
 te Business-Zonen ermittelt werden können.\n\nMit der Kombination dieser 
 beiden Methoden:\n\n 	Das Market Profile zeigt an\, wer momentan den Markt
  dominiert. An welchen Stellen aggressive Händler vorhanden sind und wann
  schwache Hände den Markt dominieren.\n 	Über das Volume Profile werden 
 Umsatzcluster und Bereiche ohne Umsätze angezeigt. Es zeigt deutlich an\,
  wo mit Geschwindigkeit zu rechnen ist oder aber eher Lethargie vorherrsch
 en wird. Und\, an welchen Stellen die Positionen geschlossen werden sollte
 n.\n 	Es können Trading-Ideen sowohl im Swing- als auch im Positionstradi
 ng geplant und umgesetzt werden.\n\nTrader Patrick Nill nimmt am The World
  Cup Trading Championships  teil und ist nun im dritten Jahr unter den f
 ührenden der Welt. Weitere Details findet Ihr hier:  tradethetraders.com
 \n\n
CATEGORIES:Stuttgart
LOCATION:Haus der Wirtschaft
X-APPLE-STRUCTURED-LOCATION;VALUE=URI;X-ADDRESS= Willi-Bleicher-Straße 19\
 , Stuttgart\, 71174\, Deutschland;X-APPLE-RADIUS=100;X-TITLE=Haus der Wirt
 schaft:geo:0,0
END:VEVENT
BEGIN:VTIMEZONE
TZID:Europe/Berlin
X-LIC-LOCATION:Europe/Berlin
BEGIN:DAYLIGHT
DTSTART:20220327T030000
TZOFFSETFROM:+0100
TZOFFSETTO:+0200
TZNAME:CEST
END:DAYLIGHT
END:VTIMEZONE
END:VCALENDAR