BEGIN:VCALENDAR
VERSION:2.0
PRODID:-//wp-events-plugin.com//7.2.3.1//EN
TZID:Europe/Berlin
X-WR-TIMEZONE:Europe/Berlin
BEGIN:VEVENT
UID:360@vtad.de
DTSTART;TZID=Europe/Berlin:20210112T190000
DTEND;TZID=Europe/Berlin:20210112T190000
DTSTAMP:20210103T142525Z
URL:https://www.vtad.de/rgt/mensch-versus-kuenstliche-intelligenz-wer-ist-
 der-bessere-trader-3/
SUMMARY:Mensch versus Künstliche Intelligenz – wer ist der bessere Trade
 r? - FÄLLT AUS wg. Shutdown No. 2 (wird nachgeholt)
DESCRIPTION:„Alle“ reden über künstliche Intelligenz\; aber wie funkt
 ioniert sie? Und ist die Maschine dann der bessere Trader? In diesem Vortr
 ag befaßt sich unser Referent Dr. Friedrichowski genauer mit den Grundzü
 gen sogenannter Neuronaler Netze . Der Übertrag auf Trading ist dann auch
  kein großer Schritt mehr. Seien Sie gespannt und freuen Sie sich auf ein
 en sehr interessanten Vortrag\, den unser Referent im Oktober 2019 auf der
  großen IFTA-Konferenz in Kairo (Ägypten) präsentieren durfte !\n\nDer 
 Referent: Als promovierter Physiker und Vollzeittrader ist Stefan Friedric
 howski seit vielen Jahren an den Börsen unterwegs und ist zudem Quantitat
 ive Manager bei JFD Bank (Freelancer). Er ist Experte für mathematisch / 
 statistisch abgeleitete Trading Strategien\, die er auch seit Jahren profi
 tabel einsetzt. Es setzt dabei sowohl auf Excel basierte Auswertungen\, al
 s auch auf selbstgeschrieben C-Programme\, um den entscheidenden Wahrschei
 nlichkeitsvorteil für seine Trading Ansätze zu entwickeln. Darüber hina
 us vermittelt Stefan Friedrichowski sein Fachwissen auch schon seit Jahren
  erfolgreich in vielen Webinaren und Seminaren und ist gern gesehener Redn
 er bei Live-Veranstaltungen.
CATEGORIES:Düsseldorf
END:VEVENT
BEGIN:VTIMEZONE
TZID:Europe/Berlin
X-LIC-LOCATION:Europe/Berlin
BEGIN:STANDARD
DTSTART:20201025T020000
TZOFFSETFROM:+0200
TZOFFSETTO:+0100
TZNAME:CET
END:STANDARD
END:VTIMEZONE
END:VCALENDAR