BEGIN:VCALENDAR
VERSION:2.0
PRODID:-//wp-events-plugin.com//7.2.3.1//EN
TZID:Europe/Berlin
X-WR-TIMEZONE:Europe/Berlin
BEGIN:VEVENT
UID:683@vtad.de
DTSTART;TZID=Europe/Berlin:20230713T183000
DTEND;TZID=Europe/Berlin:20230713T200000
DTSTAMP:20230714T134222Z
URL:https://www.vtad.de/rgt/mit-backtest-die-besten-strategien-finden/
SUMMARY:Mit Backtest die besten Strategien finden
DESCRIPTION:Wir leben in einer Zeit von Datenüberfluss. Es ist ein Segen u
 nd Fluch zugleich.\nViele Datensätze sind sogar frei zugänglich. Aber wa
 s mach ich mit all den Daten und was sagen sie eigentlich?\nOder wie stark
  verändert sich mein Handelsergebnis\, wenn ich einen Parameter etwas ver
 ändere oder weglasse?\n\nZu diesen und anderen spannenden Themen befragen
  wir am besten unseren Referenten Jan Zuleeg (VTAD München). Ein Fachman
 n\, wenn es um praktische Anwendung von Informationsverarbeitung und ihrem
  Nutzen geht.\n\nMit Python lassen sich auf einfache Art und Weise Backte
 sts von Handelsstrategien durchführen und es stehen eine Menge Module zur
  Verfügung\, die dabei unterstützen und mit denen sich wichtige Kennzahl
 en und Equitykurven ausrechnen lassen. Mit Backtests lassen sich nicht nur
  einzelne Aktien testen\, sondern auch ein Portfolio aus vielen Aktien zus
 ammensetzen. Hierzu werden in Beispielen hauptsächlich amerikanische Akti
 en verwendet. Handelssysteme können Signale nicht nur mittels einfachen g
 leitenden Durchschnitten erhalten\, sondern auch auf deutlich komplizierte
 ren Wegen\, die auf Mustererkennung basieren. Es werden verschiedene Beisp
 iele gezeigt\, wie sich komplizierte Formationen wie z.B. Tasse-Henkel ode
 r Gartley Muster automatisch mit Algorithmen aufspüren lassen und mittels
  Backtests auf ihre Performance bewerten lassen. Um Handelsstrategien mit 
 vielen Signalen zu verbessern\, können Filtertechniken verwendet werden. 
 Dazu werden Marktfilter und speziell angepasste Filter für Strategien vor
 gestellt und bewertet.\n\nReferent:\n\n\n\n\nJan Zuleeg\nSeit 10 Jahren be
 schäftigt sich Jan Zuleeg nebenberuflich mit dem Börsengeschehen. Sein 
 Handelsstil basiert hauptsächlich auf festen Regeln\, die über Statistik
  und selber programmierte Backtests festgelegt worden sind. Dabei spielt d
 ie automatische Erkennung von Mustern und Formationen aus der technischen 
 Analyse die wichtigste Rolle.\n\n\n\n&nbsp\;\n\nvtad_Stuttgart_Jan_Zuleeg
 \n\n&nbsp\;
CATEGORIES:Stuttgart
LOCATION:Haus der Wirtschaft
X-APPLE-STRUCTURED-LOCATION;VALUE=URI;X-ADDRESS= Willi-Bleicher-Straße 19\
 , Stuttgart\, 71174\, Deutschland;X-APPLE-RADIUS=100;X-TITLE=Haus der Wirt
 schaft:geo:0,0
END:VEVENT
BEGIN:VTIMEZONE
TZID:Europe/Berlin
X-LIC-LOCATION:Europe/Berlin
BEGIN:DAYLIGHT
DTSTART:20230326T030000
TZOFFSETFROM:+0100
TZOFFSETTO:+0200
TZNAME:CEST
END:DAYLIGHT
END:VTIMEZONE
END:VCALENDAR