BEGIN:VCALENDAR
VERSION:2.0
PRODID:-//wp-events-plugin.com//7.2.3.1//EN
TZID:Europe/Berlin
X-WR-TIMEZONE:Europe/Berlin
BEGIN:VEVENT
UID:537@vtad.de
DTSTART;TZID=Europe/Berlin:20220810T183000
DTEND;TZID=Europe/Berlin:20220810T200000
DTSTAMP:20220807T154652Z
URL:https://www.vtad.de/rgt/mit-optionen-und-aktien-einen-permanten-einkom
 mens-stream-schaffen/
SUMMARY:Mit Optionen und Aktien einen permanenten Einkommens-Stream schaffe
 n
DESCRIPTION:Vorstellung meines Handels (kurze Beschreibung)\n**************
 *********************************\n\nCarsten betreibt in erster Linie Stil
 lhaltergeschäfte auf Aktien- &amp\; ETF-Optionen\, wobei sein Fokus auf s
 tabilen Wertpapieren liegt\, mit Vorliebe zu Dividendenwerten. Auf diese w
 endet er verschiedene Handelsstrategien an\, u.a. den Cash secured Put.Die
 sen jedoch nicht zu jedem Preis\, sondern zu rechnerisch fairen Preisen de
 s Underlyings an sich. Hierzu bedient er sich gewisser fundamentaler Daten
 . Ein Kernelement seines Handels liegt auf dem Rollen von Optionen zu von 
 Anfang an festgelegten maximalen Optionskontrakten unter Betrachtung seine
 r Depotgröße . Das Ergebnis schlägt sich optimalerweise in einer Andien
 ung zum fairen Preis des Wertpapiers nieder oder in einer reinen Trade-Gew
 innmitnahme an sich. In schlechten Fällen wird versucht die Position Brea
 k Even zu verlassen. Hedging betreibt er in erster Linie mit Put Ratio Bac
 kspreads oder sogenannten Long Teenies auf den VIX oder Indexoptionen.\n\n
 &nbsp\;\n\nVorstellungskurztext / VITA\n**********************************
 *****\n\nCarsten (51) stammt aus der Documentastadt Kassel. Neben seiner l
 angjährigen Selbständigkeit im Onlinehandel\, befasst er sich seit 2013 
 mit ausgiebig mit Trading\, speziell nur noch mit dem Optionshandel. 1996 
 investierte er in seine ersten Wertpapiere (DTAG). 2023 plant er aktuell s
 eine Auswanderung nach Zypern und wird dort sein Einkommen in erster Linie
  aus dem Optionshandel und Dividendeneinnahmen aus Hochdividenden- und and
 eren Wertpapierklassen bestreiten.
CATEGORIES:VTAD Webinar
END:VEVENT
BEGIN:VTIMEZONE
TZID:Europe/Berlin
X-LIC-LOCATION:Europe/Berlin
BEGIN:DAYLIGHT
DTSTART:20220327T030000
TZOFFSETFROM:+0100
TZOFFSETTO:+0200
TZNAME:CEST
END:DAYLIGHT
END:VTIMEZONE
END:VCALENDAR