BEGIN:VCALENDAR
VERSION:2.0
PRODID:-//wp-events-plugin.com//7.2.3.1//EN
TZID:Europe/Berlin
X-WR-TIMEZONE:Europe/Berlin
BEGIN:VEVENT
UID:615@vtad.de
DTSTART;TZID=Europe/Berlin:20230116T190000
DTEND;TZID=Europe/Berlin:20230116T210000
DTSTAMP:20221201T105445Z
URL:https://www.vtad.de/rgt/n-n-2/
SUMMARY:2023 aus Sicht der Börsenzyklen
DESCRIPTION:\n2023 wird es an der Börse riesige Bewegungen geben\, die mit
  den relativ harmlosen Kursausschlägen der letzten Jahre kaum zu vergleic
 hen sind. In diesem Umfeld ist es ganz besonders wichtig\, einen zeitliche
 n Anhaltspunkt zu haben\, wann die markantesten Hochs und Tiefs des Jahres
  2023 fällig sind. Schwerpunkt des Vortrages sind Dax\, Gold\, Silber\, R
 ohöl und Euro/Dollar. Doch auch einige andere Märkte werden kurz besproc
 hen.\n\nReferent:\nWilfried Kölz ist der Experte für Börsenzyklen. Seit
  über 30 Jahren erforscht er die Zyklen\, stellt Prognosen und hält Vort
 räge.\n\n\n\n\n\n\n\n&nbsp\;\nRegelung für Gäste und Interessierte:\nSc
 hnuppern ist mit vorheriger Anmeldung kostenfrei und erst bei ab der zweit
 en Teilnahme werden 30 € Kostenbeteiligung berechnet. Die Gäste werden 
 gebeten sich beim Regionalmanager per Email unter rm.berlin@vtad.de anzume
 lden\,  da die Plätze beschränkt sind!\n\nGutscheine für eine einmalig
 e kostenlose Teilnahme erhalten Sie auf Börsentagen\, Messen oder auf sch
 riftliche Anfrage beim Regionalmanager.\nGäste ohne vorherige Anmeldung m
 üssen leider abgewiesen werden!!!\n\n&nbsp\;\n\n\n\n\nHygienekonzept:\n\n
 aktuell gibt es keine Beschränkungen\n\n\n&nbsp\;\n\nWer sich krank fühl
 t bleibt bitte zu Hause. Auf innige Begrüßungen sollte verzichtet werden
 .\n\n\nHinweis: Für diese Veranstaltung sind wir verpflichtet ein entspre
 chendes Hygienekonzept zu erstellen und umzusetzen.
CATEGORIES:Berlin
LOCATION:Mercure Hotel MOA Berlin
X-APPLE-STRUCTURED-LOCATION;VALUE=URI;X-ADDRESS=Stephanstr. 41\, Berlin\, 1
 0559\, Deutschland;X-APPLE-RADIUS=100;X-TITLE=Mercure Hotel MOA Berlin:geo
 :0,0
END:VEVENT
BEGIN:VTIMEZONE
TZID:Europe/Berlin
X-LIC-LOCATION:Europe/Berlin
BEGIN:STANDARD
DTSTART:20221030T020000
TZOFFSETFROM:+0200
TZOFFSETTO:+0100
TZNAME:CET
END:STANDARD
END:VTIMEZONE
END:VCALENDAR