BEGIN:VCALENDAR
VERSION:2.0
PRODID:-//wp-events-plugin.com//7.2.3.1//EN
TZID:Europe/Berlin
X-WR-TIMEZONE:Europe/Berlin
BEGIN:VEVENT
UID:813@vtad.de
DTSTART;TZID=Europe/Berlin:20240424T183000
DTEND;TZID=Europe/Berlin:20240424T204500
DTSTAMP:20240416T204904Z
URL:https://www.vtad.de/rgt/n-n-4/
SUMMARY:„Es müssen nicht immer 100% sein\, ich liebe es einfach“
DESCRIPTION:Ein solider Handelsansatz ist nicht schwer und spart Nerven und
  Geld. Christoph Geyer erklärt\, wie ein sehr einfacher Handelsansatz fü
 r jeden nachvollziehbar\, aussehen kann.\n\nDabei legt er Wert darauf\, da
 ss kein Ansatz für die Ewigkeit ist.\n\nSein Fokus liegt dabei auf einem 
 Indikatoren-Modell.\n\nZudem zeigt er einen Zusammenhang zwischen den Okto
 berfest-Bierpreisen und dem Goldpreis und geht auch auf Goldzyklen ein und
  was dies mit Fußball zu tun hat.\n\nDas Thema Zyklen wird insgesamt in s
 einem Vortrag entsprechenden Raum einnehmen.\n\nAls Abrundung wird er zum 
 Schluss das Gezeigte in seiner beliebten Live-Analyse auf Zuruf anwenden u
 nd auch Saisonalitäten mit dem Seasonax-Programm einbeziehen.\n\n&nbsp\;\
 n\nChristoph Geyer war über 41 Jahre im Bankgeschäft tätig und betreibt
  die Technische Analyse seit über 45 Jahren. Als Ausbilder für angehende
  Technische Analysten und stellvertretender Regionalmanager der Gruppe Fra
 nkfurt engagiert er sich bei der VTAD e.V. (Vereinigung Technischer Analys
 ten Deutschlands). Im Jahr 2011 hat er\, nach den beiden dritten Plätzen\
 , den „Technischer Analysten Award“ der Börsenzeitung gewonnen. Geyer
  ist Buchautor und hat u.a. das Fachbuch „Einfach richtig Geld verdienen
  mit Technischer Analyse“ 2. Auflage (Wiley-Verlag) verfasst. Ein weiter
 es Buch ist in Vorbereitung.\n\nEr betreibt einen Youtube-Kanal (Christoph
  Geyer\, CFTe) auf dem er wöchentlich Analysen und Meinungen zu Märkten 
 und Gold veröffentlicht. Besonders beliebt ist seine monatliche Chart-Sho
 w\, die er in Zusammenarbeit mit der Börse Düsseldorf kostenfrei anbiete
 t. In dieser Online-Liveveranstaltung analysiert er Einzelwerte\, Märkte\
 , Aktien und Rohstoffe auf Zuruf. Besondere aktuelle Themen werden aufgegr
 iffen und erklärt.\n\nAnmeldung hier\, um eine Erinnerungsmail mit dem Zu
 gangscode für die Chart-Show zu erhalten.\n\nTermine für seine Schulunge
 n und/oder Vorträge finden Sie auf seiner Webseite www.christophgeyer.de 
 .
CATEGORIES:Düsseldorf
END:VEVENT
BEGIN:VTIMEZONE
TZID:Europe/Berlin
X-LIC-LOCATION:Europe/Berlin
BEGIN:DAYLIGHT
DTSTART:20240331T030000
TZOFFSETFROM:+0100
TZOFFSETTO:+0200
TZNAME:CEST
END:DAYLIGHT
END:VTIMEZONE
END:VCALENDAR