BEGIN:VCALENDAR
VERSION:2.0
PRODID:-//wp-events-plugin.com//7.2.3.1//EN
TZID:Europe/Berlin
X-WR-TIMEZONE:Europe/Berlin
BEGIN:VEVENT
UID:953@vtad.de
DTSTART;TZID=Europe/Berlin:20250116T183000
DTEND;TZID=Europe/Berlin:20250116T204500
DTSTAMP:20250109T182112Z
URL:https://www.vtad.de/rgt/n-n-5/
SUMMARY:Livetrading des US-Marktes reloaded
DESCRIPTION:Wenn wir heute um 18:30 h starten bleiben von der Handelszeit i
 n den USA noch dreieinhalb Stunden bis zur Schlussglocke um 22 h. Diese nu
 tzt unser Referent\, um uns einige seiner Setups live gehandelt im Dow Jon
 es und eventuell auch in anderen Instrumenten im 5 Minuten-Chart zu zeigen
 . Neben der allgemeinen Marktsituation werden die unterschiedlichen Zeiteb
 enen betrachtet\, wobei überwiegend die technische Analyse zum Einsatz ko
 mmt. Auf Basis dieser Daten und bei Vorliegen entsprechender Signale wird 
 er Orders setzen\, die dann mit etwas Glück noch während der heutigen Ve
 ranstaltung zur Ausführung kommen.\n\nMarc Pötter ist Diplom-Kaufmann un
 d zertifizierter Investmentanalyst (CIIA + CEFA). An der Börse konzentrie
 rt er sich einerseits auf ein langfristiges Aktiendepot und auf der andere
 n Seite auf den Intradayhandel vorwiegend im DAX und Dow Jones mit Hilfe d
 er technischen Analyse.
CATEGORIES:Düsseldorf
END:VEVENT
BEGIN:VTIMEZONE
TZID:Europe/Berlin
X-LIC-LOCATION:Europe/Berlin
BEGIN:STANDARD
DTSTART:20241027T020000
TZOFFSETFROM:+0200
TZOFFSETTO:+0100
TZNAME:CET
END:STANDARD
END:VTIMEZONE
END:VCALENDAR