BEGIN:VCALENDAR
VERSION:2.0
PRODID:-//wp-events-plugin.com//7.2.3.1//EN
TZID:Europe/Berlin
X-WR-TIMEZONE:Europe/Berlin
BEGIN:VEVENT
UID:993@vtad.de
DTSTART;TZID=Europe/Berlin:20250312T183000
DTEND;TZID=Europe/Berlin:20250312T204500
DTSTAMP:20250203T181030Z
URL:https://www.vtad.de/rgt/n-n-6/
SUMMARY:Ein Besuch bei alten Freunden – Optimieren von 3 altbekannten Str
 ategien
DESCRIPTION:Wer sich schon länger mit Trading-Strategien beschäftigt\, ha
 t sicher schon von der End-of-Month-Strategie\, dem Turnaround Tuesday ode
 r vielleicht auch von Larry Conners Double7s-Strategie gehört\, Strategie
 n die vor vielen Jahren veröffentlicht wurden.\n\nDiese Strategien handel
 n nach mathematisch eindeutig definierten Ein- und Ausstiegssignalen\, was
  es ermöglicht\, die Trades als statistisches Problem zu betrachten und s
 o einen guten Eindruck zu bekommen\, in welchen Grenzen sich eine Strategi
 e im echten Trading bewegen wird.\n\nAm Beispiel dieser Strategien wollen 
 wir uns ansehen\, wie man auf statistischer Basis eine Strategie optimiere
 n und die Ergebnisse beurteilen kann. Auch wollen wir uns ansehen\, wie di
 ese Strategien nur auf Basis von Tagescharts gehandelt werden können\, we
 lche Probleme es bei der praktischen Umsetzung gibt und wie man mit ihnen 
 umgehen kann.\n\nIhr Referent: Dr. Achim Lamatsch ist als privater Trader 
 seit über 40 Jahren mal mehr mal weniger an der Börse aktiv. Nach vielen
  Jahren mit sehr durchwachsenen Ergebnissen hat er sich seit 2018 mit indi
 katorbasierten Strategien und darauf basierenden Rückrechnungen\, speziel
 l für das End-of-Day-Trading\, beschäftigt und handelt diese erfolgreich
 .
CATEGORIES:Düsseldorf
END:VEVENT
BEGIN:VTIMEZONE
TZID:Europe/Berlin
X-LIC-LOCATION:Europe/Berlin
BEGIN:STANDARD
DTSTART:20241027T020000
TZOFFSETFROM:+0200
TZOFFSETTO:+0100
TZNAME:CET
END:STANDARD
END:VTIMEZONE
END:VCALENDAR