BEGIN:VCALENDAR
VERSION:2.0
PRODID:-//wp-events-plugin.com//7.2.3.1//EN
TZID:Europe/Berlin
X-WR-TIMEZONE:Europe/Berlin
BEGIN:VEVENT
UID:1025@vtad.de
DTSTART;TZID=Europe/Berlin:20251009T183000
DTEND;TZID=Europe/Berlin:20251009T203000
DTSTAMP:20250527T072453Z
URL:https://www.vtad.de/rgt/nn-11/
SUMMARY:Erfolgreich durch den Börsendschungel
DESCRIPTION:Traden an der Börse bezeichnet den kurzfristigen Kauf und Verk
 auf von Wertpapieren mit dem Ziel\, von Kursbewegungen zu profitieren.\n\n
 Erfolgreiches Trading erfordert fundiertes Wissen\, eine klare Strategie s
 owie Disziplin und Emotionskontrolle. Ohne systematisches Vorgehen und rea
 listisches Risikomanagement ist das Verlustrisiko hoch. Mein Vortrag gibt 
 einen ersten Überblick über die Grundlagen des Tradings und betont die B
 edeutung eines strukturierten Ansatzes für nachhaltigen Erfolg.\n\nStefan
  Becker begann bereits in seinen frühen 20ern sich intensiv für die Bör
 se und insbesondere das Trading zu interessieren.\n\n"Ich erinnere mich gu
 t\, wie herausfordernd die ersten Jahre waren und wie sehr mir ein Mentor 
 dabei geholfen hat\, Struktur in meinen Tradingalltag zu bringen. Neben me
 iner Tätigkeit als Biologielaborant durfte ich vier Jahre lang als Charta
 nalyst bei den Formationstradern arbeiten. Heute unterstütze ich als Ment
 or Börsenbegeisterte dabei\, erfolgreiches Trading und den Berufsalltag m
 iteinander zu verbinden."\n\nWeiteres zum Nachlesen unter www.boersenninja
 .de
CATEGORIES:Stuttgart
LOCATION:Haus der Wirtschaft
X-APPLE-STRUCTURED-LOCATION;VALUE=URI;X-ADDRESS= Willi-Bleicher-Straße 19\
 , Stuttgart\, 71174\, Deutschland;X-APPLE-RADIUS=100;X-TITLE=Haus der Wirt
 schaft:geo:0,0
END:VEVENT
BEGIN:VTIMEZONE
TZID:Europe/Berlin
X-LIC-LOCATION:Europe/Berlin
BEGIN:DAYLIGHT
DTSTART:20250330T030000
TZOFFSETFROM:+0100
TZOFFSETTO:+0200
TZNAME:CEST
END:DAYLIGHT
END:VTIMEZONE
END:VCALENDAR