BEGIN:VCALENDAR
VERSION:2.0
PRODID:-//wp-events-plugin.com//7.2.3.1//EN
TZID:Europe/Berlin
X-WR-TIMEZONE:Europe/Berlin
BEGIN:VEVENT
UID:268@vtad.de
DTSTART;TZID=Europe/Berlin:20200312T183000
DTEND;TZID=Europe/Berlin:20200312T183000
DTSTAMP:20200212T104600Z
URL:https://www.vtad.de/rgt/nn-3/
SUMMARY:Footprint und Level 2 im Kontext mit dem Orderflow
DESCRIPTION:Der Footprint liefert uns detaillierte Einblicke in das "Innere
 " der Kerze\, hiermit können wir exakt sehen wo ein Umsatz getätigt wurd
 e und vor allem welche Seite.\nDie Level 2 Daten sind essentiell für dies
 e Art des Tradings.\n\nPeter Becker ist 35 Jahre alt und seit 9 Jahren an 
 der Börse aktiv\, wo er den Futuresmarkt handelt mit Spezialisierung auf 
 Footprint und Orderbuch. Er handelt hauptsächlich den S&amp\;P 500 Future
  und schult interessierte Trader im Footprint und Orderflow Trading. Der S
 chwerpunkt liegt zwar auf dem Footprint und dem Orderbook\, jedoch sind al
 le Themen die sich mit dem Orderflow befassen sein Spezialgebiet.
CATEGORIES:Stuttgart
LOCATION:Haus der Wirtschaft
X-APPLE-STRUCTURED-LOCATION;VALUE=URI;X-ADDRESS= Willi-Bleicher-Straße 19\
 , Stuttgart\, 71174\, Deutschland;X-APPLE-RADIUS=100;X-TITLE=Haus der Wirt
 schaft:geo:0,0
END:VEVENT
BEGIN:VTIMEZONE
TZID:Europe/Berlin
X-LIC-LOCATION:Europe/Berlin
BEGIN:STANDARD
DTSTART:20191027T020000
TZOFFSETFROM:+0200
TZOFFSETTO:+0100
TZNAME:CET
END:STANDARD
END:VTIMEZONE
END:VCALENDAR