BEGIN:VCALENDAR
VERSION:2.0
PRODID:-//wp-events-plugin.com//7.2.3.1//EN
TZID:Europe/Berlin
X-WR-TIMEZONE:Europe/Berlin
BEGIN:VEVENT
UID:739@vtad.de
DTSTART;TZID=Europe/Berlin:20231109T183000
DTEND;TZID=Europe/Berlin:20231109T210000
DTSTAMP:20231003T084009Z
URL:https://www.vtad.de/rgt/nn-5/
SUMMARY:Superperformance Aktien
DESCRIPTION:In diesem Vortrag erklärt Ihnen der langjährige Trader und B
 örsenprofi Achim Mautz die Geheimnisse der sogenannten „Superperformanc
 e Aktien“. Was haben alle starken Aktien wie Meta\, Amazon\, Apple\, Alp
 habet oder Nvidia gemeinsam? Historisch lassen sich sehr viele Gemeinsamke
 iten vor allem in den Charts und auch auf fundamentaler Ebene erkennen. Di
 ese wurden schon von Investmentgurus wie Mark Minervini oder auch William 
 O´Neil erkannt und auch statistisch ausgewertet. Exakt diese schauen wir 
 uns an\, damit auch Sie in Zukunft selbst die nächsten großen Gewinner a
 n den Börsen schon am Start erkennen können.\n\nWeitere Infos zum Refere
 nten findet Ihr hier: ratgebergeld.at\n\n&nbsp\;\n\n&nbsp\;
CATEGORIES:Stuttgart
LOCATION:Haus der Wirtschaft
X-APPLE-STRUCTURED-LOCATION;VALUE=URI;X-ADDRESS= Willi-Bleicher-Straße 19\
 , Stuttgart\, 71174\, Deutschland;X-APPLE-RADIUS=100;X-TITLE=Haus der Wirt
 schaft:geo:0,0
END:VEVENT
BEGIN:VTIMEZONE
TZID:Europe/Berlin
X-LIC-LOCATION:Europe/Berlin
BEGIN:STANDARD
DTSTART:20231029T020000
TZOFFSETFROM:+0200
TZOFFSETTO:+0100
TZNAME:CET
END:STANDARD
END:VTIMEZONE
END:VCALENDAR