BEGIN:VCALENDAR
VERSION:2.0
PRODID:-//wp-events-plugin.com//7.2.3.1//EN
TZID:Europe/Berlin
X-WR-TIMEZONE:Europe/Berlin
BEGIN:VEVENT
UID:794@vtad.de
DTSTART;TZID=Europe/Berlin:20240718T183000
DTEND;TZID=Europe/Berlin:20240718T200000
DTSTAMP:20240617T125834Z
URL:https://www.vtad.de/rgt/nn-7/
SUMMARY:Einstieg in das Professionelle Risiko-Management
DESCRIPTION:Um im aktiven Trading dauerhaft erfolgreich zu sein\, bedarf es
  weit mehr\, als den perfekten Einstieg in eine Position zu finden. Neben 
 einer umfassenden Analyse des gehandelten Marktes oder Wertes – fundamen
 tal\, charttechnisch oder in Kombination – und einer ausgereiften Händl
 erpersönlichkeit gehört vor allem ein professionelles Risiko-Management 
 zu einer erfolgreichen Trading-Karriere.\n\nMit dem Vortrag »Einstieg in 
 das professionelle Risiko-Management - Risiken Begrenzen und Chancen nutze
 n« erhalten Sie grundlegende Einblicke in die Bestimmung und Begrenzung I
 hres persönlichen Risikos. Sie erfahren\, wie Sie Ihre optimale Positions
 größe festlegen und rentable Trading-Gelegenheiten von unrentablen unter
 scheiden.\n\nWieland Arlt\, CFTe ist professioneller Trader\, Bestseller A
 utor und Trading-Coach. Er ist Autor der Bestseller-Bücher "Risiko- und M
 oney-Management - Simplified" und "55 Gründe\, Trader zu werden" sowie za
 hlreicher Artikel in führenden Finanzmagazinen.\n\nWieland Arlt ist Diplo
 m-Volkswirt\, Präsident der International Federation of Technical Analyst
 s (IFTA)\, Vorstandsmitglied der Vereinigung Technischer Analysten in Deut
 schland (VTAD) sowie offizielles Mitglied des „Forbes Finance Council“
  und ehemaliges Mitglied des „Newsweek Expert Forum“. Als Trader und i
 nternationaler Börsen-Experte lebt Wieland Arlt die vollkommene Freiheit 
 und bereist die Welt als Perpetual Traveler.
CATEGORIES:Stuttgart
LOCATION:Haus der Wirtschaft
X-APPLE-STRUCTURED-LOCATION;VALUE=URI;X-ADDRESS= Willi-Bleicher-Straße 19\
 , Stuttgart\, 71174\, Deutschland;X-APPLE-RADIUS=100;X-TITLE=Haus der Wirt
 schaft:geo:0,0
END:VEVENT
BEGIN:VTIMEZONE
TZID:Europe/Berlin
X-LIC-LOCATION:Europe/Berlin
BEGIN:DAYLIGHT
DTSTART:20240331T030000
TZOFFSETFROM:+0100
TZOFFSETTO:+0200
TZNAME:CEST
END:DAYLIGHT
END:VTIMEZONE
END:VCALENDAR