BEGIN:VCALENDAR
VERSION:2.0
PRODID:-//wp-events-plugin.com//7.2.3.1//EN
TZID:Europe/Berlin
X-WR-TIMEZONE:Europe/Berlin
BEGIN:VEVENT
UID:795@vtad.de
DTSTART;TZID=Europe/Berlin:20240111T183000
DTEND;TZID=Europe/Berlin:20240111T203000
DTSTAMP:20240110T110356Z
URL:https://www.vtad.de/rgt/nn-8/
SUMMARY:Wie erstelle ich eine Analyse?
DESCRIPTION:Bei dieser Veranstaltung zeigt Euch Karin Roller\, wie einfach 
 es eigentlich ist einen Chart zu analysieren. Das beinhaltet zum Beispiel 
 Chartaufbau\, Zeitintervalle\, Identifizieren von Unterstützungs- und Wid
 erstandszonen\, Trenderkennung\, Erkennen der Trendumkehr\, Bestimmen von 
 Kurszielen und Stopp-Level\, Einstiegs- und Ausstiegssignale\, Mustererken
 nung\, Verwenden von Indikatoren und vieles mehr … und das nicht mit ein
 er vorbereiteten Präsentation\, sondern live mit dem Charttool TaiPan Eo
 D.\n\nKarin Roller (CFTe) ist Traderin\, Autorin\, Vorstandsmitglied der 
 VTAD und leitet unsere Regionalgruppe in Stuttgart.
CATEGORIES:Stuttgart
LOCATION:Haus der Wirtschaft
X-APPLE-STRUCTURED-LOCATION;VALUE=URI;X-ADDRESS= Willi-Bleicher-Straße 19\
 , Stuttgart\, 71174\, Deutschland;X-APPLE-RADIUS=100;X-TITLE=Haus der Wirt
 schaft:geo:0,0
END:VEVENT
BEGIN:VTIMEZONE
TZID:Europe/Berlin
X-LIC-LOCATION:Europe/Berlin
BEGIN:STANDARD
DTSTART:20231029T020000
TZOFFSETFROM:+0200
TZOFFSETTO:+0100
TZNAME:CET
END:STANDARD
END:VTIMEZONE
END:VCALENDAR