BEGIN:VCALENDAR
VERSION:2.0
PRODID:-//wp-events-plugin.com//7.2.3.1//EN
TZID:Europe/Berlin
X-WR-TIMEZONE:Europe/Berlin
BEGIN:VEVENT
UID:398@vtad.de
DTSTART;TZID=Europe/Berlin:20210728T183000
DTEND;TZID=Europe/Berlin:20210728T210000
DTSTAMP:20210730T154113Z
URL:https://www.vtad.de/rgt/optionen-optionsscheine-absicherungstrategien-
 genaues-thema-folgt/
SUMMARY:Einführung in die Welt der Optionen
DESCRIPTION:Vortragsunterlagen (für Download bitte einloggen): [members_lo
 gged_in] Einführung Optionen[/members_logged_in]\n\nEinführung in die W
 elt der Optionen\n\nAm heutigen Abend wird uns unser Referent Herbert Thom
 as in die Welt der Optionen einführen. Nach einem einführendem ersten Te
 il über Finanz- und Terminmärkte\, Derivate und Optionen geht es im zwei
 ten Teil um die praktische Umsetzung von Handelsstrategien mit Optionen.\n
 \nDer Referent:\n\nHerbert Thomas begann seine Karriere bei Merrill Lynch\
 , wo er zuerst auf dem Frankfurter Börsenparkett Aktienhändler war\, bev
 or er 1991 bei der Deutschen Bank zur ersten Händlergeneration gehörte\,
  die an der Deutschen Terminbörse (Eurex) zugelassen wurde.\n\nEr absolvi
 erte eine Zusatzausbildung für Derivate Produkte beim renommierten Intern
 ational Trading Institut in Chicago und war Dozent für die Börsenhändle
 rprüfung. Herbert Thomas arbeitete bei verschiedenen europäischen Großb
 anken in leitender Funktion des Aktien- und Derivatebereichs.\n\nBitte bea
 chten Sie:\n\n 	Teilnahme für Mitglieder (!) und Nicht-Mitglieder nur nac
 h vorheriger Anmeldung per Mail an: rm.nuernberg@vtad.de\n 	Anmeldung mit 
 Vorname\, Nachname und Telefonnummer oder kompletter Anschrift erbeten bis
  spätestens 23.07.2021.\n 	Max. Teilnehmerzahl 35 Personen\, es sind noch
  15 Plätze frei (Stand 21.07.)!\n 	Einlass ab 17:45h\, ab 18:30h ist kein
  Einlass mehr möglich\, wir bitten um pünktliches Erscheinen!\n\nDie Pl
 ätze werden gemäß des zeitlichen Einganges der Anmeldungen in unser Pos
 tfach vergeben.\n\nCOVID-19-Hinweise\nWir verweisen ausdrücklich auf die 
 aktuellen Corona-Regeln der bayerischen Landesregierung und des Hygienekon
 zeptes unseres Vermieters\, die unter\n\nwww.stmgp.bayern.de/coronavirus/r
 echtsgrundlagen/ und\n\nwww.eckstein-evangelisch.de/veranstaltungen/starts
 eite.html\n\neinzusehen und strikt einzuhalten sind.\n\nAufgrund einer akt
 uellen Inzidenz unter 50 in Nürnberg (Stadt) besteht KEINE Nachweispflich
 t eines Negativtests\, einer Impfung oder Genesung.\n\nMit der Anmeldung z
 ur Veranstaltung bestätigt jede(r) Teilnehmer(in)\, die o.g. geltenden Co
 rona-Regeln zur Kenntnis genommen zu haben und am Veranstaltungsabend einz
 uhalten.
CATEGORIES:Nürnberg
END:VEVENT
BEGIN:VTIMEZONE
TZID:Europe/Berlin
X-LIC-LOCATION:Europe/Berlin
BEGIN:DAYLIGHT
DTSTART:20210328T030000
TZOFFSETFROM:+0100
TZOFFSETTO:+0200
TZNAME:CEST
END:DAYLIGHT
END:VTIMEZONE
END:VCALENDAR