BEGIN:VCALENDAR
VERSION:2.0
PRODID:-//wp-events-plugin.com//7.2.3.1//EN
TZID:Europe/Berlin
X-WR-TIMEZONE:Europe/Berlin
BEGIN:VEVENT
UID:625@vtad.de
DTSTART;TZID=Europe/Berlin:20230309T183000
DTEND;TZID=Europe/Berlin:20230309T200000
DTSTAMP:20221208T130839Z
URL:https://www.vtad.de/rgt/optionen/
SUMMARY:Optionen-Handel: Grundlagen der Optionspreistheorie und ausführlic
 he Live-Erläuterungen in einer Broker-Handelsmaske
DESCRIPTION:Abstract: Gregor Bauer gibt zunächst einen kurzen und insbeson
 dere praxisorientierten Einblick die Grundlagen der Optionspreistheorie. D
 azu ein kurzer Überblick über die bekanntesten Optionen-Strategien\, mit
  den jeweiligen Vor- und Nachteilen: Long Call/Put\; Short Call/Put\, sowi
 e die Kombinationsstrategien Long Straddle/Strangle und insbesondere über
  die in letzter Zeit populär gewordenen Strategien\, die auch den Verkauf
  einer Option enthalten\, hier am Beispiel Bullish/Bearish Call-Spread und
  Bullish/Bearish Put-Spread.\n\nDer Hauptteil des Vortrags besteht dann in
  anschaulichen Erläuterungen zum Optionen-Handel. Live in der Handelsmask
 e eines Brokers\, an den US-Terminmärkten\, hier über Interactive Broker
 s (IB\, TWS).\n\nThemenschwerpunkte:\n\n 	Der Options-Preis in der Praxis:
  So funktioniert das Market-Making bei Optionen\n 	Die Geld-Brief Spanne: 
 So erhalten Sie den bestmöglichen Preis bei Kauf und Verkauf\n 	Die Auswa
 hl der passenden Option: Es kommt auch auf die Trading-Strategie an\n 	Der
  Einfluss der Laufzeit und der „Moneyness“ (im-\, am-\, aus- dem Geld)
  bei der Auswahl der Option\n 	Diesen - wichtigen! - Einfluss hat implizit
 e Volatilität. Dazu konkrete Tipps\, was und wo hierzu das Notwendige in 
 der TWS-Maske zu finden ist\n 	Ihre Fragen – meine Antworten\, die Q&amp
 \;A Runde.\n
CATEGORIES:Stuttgart
LOCATION:Haus der Wirtschaft
X-APPLE-STRUCTURED-LOCATION;VALUE=URI;X-ADDRESS= Willi-Bleicher-Straße 19\
 , Stuttgart\, 71174\, Deutschland;X-APPLE-RADIUS=100;X-TITLE=Haus der Wirt
 schaft:geo:0,0
END:VEVENT
BEGIN:VTIMEZONE
TZID:Europe/Berlin
X-LIC-LOCATION:Europe/Berlin
BEGIN:STANDARD
DTSTART:20221030T020000
TZOFFSETFROM:+0200
TZOFFSETTO:+0100
TZNAME:CET
END:STANDARD
END:VTIMEZONE
END:VCALENDAR