BEGIN:VCALENDAR
VERSION:2.0
PRODID:-//wp-events-plugin.com//7.2.3.1//EN
TZID:Europe/Berlin
X-WR-TIMEZONE:Europe/Berlin
BEGIN:VEVENT
UID:858@vtad.de
DTSTART;TZID=Europe/Berlin:20240620T183000
DTEND;TZID=Europe/Berlin:20240620T201500
DTSTAMP:20240411T174105Z
URL:https://www.vtad.de/rgt/portfolio-von-handelsstrategien-fuer-faule-tra
 der-3/
SUMMARY:Portfolio von Handelsstrategien für faule Trader
DESCRIPTION:Privatinvestoren und Trader sind oft zu stark auf einzelne Hand
 elsstrategien fokussiert. Dabei kann eine Diversifikation in mehrere Strat
 egien dazu beitragen\, das Risiko zu streuen und potenzielle\, unerwünsch
 te Auswirkungen jeder einzelnen Strategie auf das Gesamtportfolio zu reduz
 ieren. Ist das Risiko für hohe Verluste minimiert\, erhöht sich das Pote
 nzial für langfristiges Wachstum des Portfolios.\n\nWie das ganz einfach 
 und ohne großen Aufwand in der Praxis funktionieren kann\, wird in diesem
  Vortrag gezeigt.\n\nIhr Referent:\n\nHerr Dr. Vassil Lolov ist Privatinve
 stor und Trader mit mehr als 20 Jahren Börsenerfahrung.
CATEGORIES:Düsseldorf
END:VEVENT
BEGIN:VTIMEZONE
TZID:Europe/Berlin
X-LIC-LOCATION:Europe/Berlin
BEGIN:DAYLIGHT
DTSTART:20240331T030000
TZOFFSETFROM:+0100
TZOFFSETTO:+0200
TZNAME:CEST
END:DAYLIGHT
END:VTIMEZONE
END:VCALENDAR