BEGIN:VCALENDAR
VERSION:2.0
PRODID:-//wp-events-plugin.com//7.2.3.1//EN
TZID:Europe/Berlin
X-WR-TIMEZONE:Europe/Berlin
BEGIN:VEVENT
UID:554@vtad.de
DTSTART;TZID=Europe/Berlin:20220714T183000
DTEND;TZID=Europe/Berlin:20220714T210000
DTSTAMP:20220703T152043Z
URL:https://www.vtad.de/rgt/relative-rotation-graphs-rrg/
SUMMARY:Relative Rotation Graphs (RRG)
DESCRIPTION:\n 	Zum Inhalt:\n\nDer „Relative Rotation Graph“ (RRG) ist 
 in Deutschland noch wenigen ein Begriff. Es handelt sich dabei um eine neu
 e Art der Chart-Darstellung und dient der quantitativen Datenerhebung zur 
 Aktien- und Intermarket Analyse.\n\nKurz gefasst geht es beim RRG darum\, 
 eine Auswahl an Handelsinstrumente in einer Matrix ins Verhältnis zueinan
 der und einem Referenzmarkt zu setzen\, um dann eine nach Stärke und Schw
 äche sortierte Graphik darzustellen. So lässt sich rasch auf einen Blick
  die relative Performance der Einzelwerte zueinander und dem Referenzmarkt
  erkennen. Schnell erkennt man\, in welche Märkte investiert und welche e
 her gemieden werden sollten.\n\nEntwickelt vor ca. 10 Jahren vom holländi
 schen Trader und Portfolio-Manager Julius de Kempenaer\, ist der RRG auf d
 en wichtigsten Tradingplattformen wie Bloomberg\, Reuters\, Optuma und Sto
 ckcharts vertreten. Und trotzdem noch recht unbekannt.\n\n&nbsp\;\n\n 	Zum
  Referent:\n\nMurat Örs hat sein Diplom in Verwaltung und Rechtspflege ab
 geschlossen und lange Jahre im Beamtentum seinen Dienst versehen. Neben de
 m Beruf beschäftigt er sich seit über zehn Jahren mit der Börse und Inv
 estmentstrategien.\n\nSo kam er 2017 durch den Einstieg in den Crypto-Mark
 t-Hype endgültig zum Traden. Nach vielen Versuchen\, Fehlschlägen und de
 m intensiven Studium der Märkte\, erarbeitete er sich mit Volumen\, Sekto
 rrotation und Zyklenanalyse endgültig seinen Handelsstil. Mit dem handelt
  und investiert er nun an den Märkten als aktiver Day- und Swingtrader.\n
 \nSein Hauptaugenmerk liegt dabei in US-Aktien und den Rohstoff-Future-Mä
 rkten.\n\nEr leitet die Regionalgruppe in Hamburg.
CATEGORIES:Stuttgart
LOCATION:Hospitalhof Stuttgart
X-APPLE-STRUCTURED-LOCATION;VALUE=URI;X-ADDRESS=Büchsenstraße 33\, Stuttg
 art\, Baden-Württemberg\, 70174\, Deutschland;X-APPLE-RADIUS=100;X-TITLE=
 Hospitalhof Stuttgart:geo:0,0
END:VEVENT
BEGIN:VTIMEZONE
TZID:Europe/Berlin
X-LIC-LOCATION:Europe/Berlin
BEGIN:DAYLIGHT
DTSTART:20220327T030000
TZOFFSETFROM:+0100
TZOFFSETTO:+0200
TZNAME:CEST
END:DAYLIGHT
END:VTIMEZONE
END:VCALENDAR