BEGIN:VCALENDAR
VERSION:2.0
PRODID:-//wp-events-plugin.com//7.2.3.1//EN
TZID:Europe/Berlin
X-WR-TIMEZONE:Europe/Berlin
BEGIN:VEVENT
UID:812@vtad.de
DTSTART;TZID=Europe/Berlin:20240314T183000
DTEND;TZID=Europe/Berlin:20240314T204500
DTSTAMP:20240102T230128Z
URL:https://www.vtad.de/rgt/relative-staerke-incl-momentum-co-ein-evergree
 n-und-wie-man-ihn-praktisch-nutzt/
SUMMARY:Relative Stärke incl. Momentum &amp\; Co. - ein Evergreen und wie 
 man ihn praktisch nutzt
DESCRIPTION:Mit der Relativen Stärke kann man je nach persönlicher Vorlie
 be numerisch oder grafisch arbeiten. Grafisch nennt sich das dann Ratio-Ch
 art und das ist auch der Schwerpunkt des heutigen Vortragsabends - also vo
 r allem etwas für den visuell orientierten Anleger bzw. Trader.\n\nDoch z
 uvor grenzt unser Referent Markus Clemens die verschiedenen numerischen Vo
 rgehensweisen (u.a. auch Relative Stärke nach Levy) von einander ab und e
 rläutert kurz deren Vor- und Nachteile.\n\nEinsetzbar als Marktbreite-\, 
 Sentiment- und Konjunkturindikator\, für den Aufbau marktneutraler Tradin
 g-Strategien ( Long-Short-Equity / Pair-Trading )\, als Filter für Invest
 mententscheidungen in starke Regionen\, Sektoren oder Einzelwerte und für
  die Generierung potentieller Outperformance zu einer Portfolio-Benchmark 
 im Assetmanagement ist die Relative Stärke eine der vielseitigsten und ef
 fizientesten Methoden der Technischen Analyse. Egal ob für den Privatanle
 ger oder den Fondsmanager.
CATEGORIES:Düsseldorf
END:VEVENT
BEGIN:VTIMEZONE
TZID:Europe/Berlin
X-LIC-LOCATION:Europe/Berlin
BEGIN:STANDARD
DTSTART:20231029T020000
TZOFFSETFROM:+0200
TZOFFSETTO:+0100
TZNAME:CET
END:STANDARD
END:VTIMEZONE
END:VCALENDAR