BEGIN:VCALENDAR
VERSION:2.0
PRODID:-//wp-events-plugin.com//7.2.3.1//EN
TZID:Europe/Berlin
X-WR-TIMEZONE:Europe/Berlin
BEGIN:VEVENT
UID:636@vtad.de
DTSTART;TZID=Europe/Berlin:20230223T190000
DTEND;TZID=Europe/Berlin:20230223T211500
DTSTAMP:20230128T104811Z
URL:https://www.vtad.de/rgt/ronny-raudies-christopher-richter-elliott-wave
 s-live-trading/
SUMMARY:Elliott-Waves &amp\; Live-Trading
DESCRIPTION:WO: A&amp\;O Hotel &amp\; Hostel\, Corneliusstr. 9\, Düsseldor
 f\n\nWANN: 23.02.2023 19:00 h\n\nWAS: Ronny Raudies\, Christopher Richter:
  Elliott-Waves &amp\; Live-Trading\n\n&nbsp\;\n\nElliott-Wellen-Theorie:\n
 \nDie Elliott-Wellen-Theorie ist eine Methode der Technischen Analyse\, we
 lche hilft\, Kursmuster zu identifizieren und zukünftige Trends zu progno
 stizieren. Bei dieser Methode der Technische Analyse lassen sich Kursmuste
 r in Impulswellen und Korrekturwellen einteilen. Impulswellen sind Bewegun
 gen\, die sich stetig in eine Richtung ausdehnen. Ronny Raudies und Christ
 opher Richter zeigen auf\, wie sich ein solcher Trend aufbaut\, wie Sie di
 ese Bewegungen erkennen und welche potentiellen Tücken gegebenenfalls zu 
 beachten sind.\n\n&nbsp\;\n\nLive-Trading:\n\nPermanente Spannung im 1 Min
 utenchart des Nasdaq 100 und des S&amp\;P500 auf Basis von Ichimoku und El
 liott-Wellen. Welche Bewegung ist die nächste und wie kann man diese am g
 eschicktesten traden? Die beiden Experten Ronny Raudies und Christopher Ri
 chter von „ElliottWellenTheorie.de“ versuchen im Live Trading ein paar
  Punkte während der Veranstaltung aus dem Markt zu schneiden\, auch Scalp
 ing genannt. Das Ganze basiert auf Kursmuster\, Unterstützungen und Wider
 stände aus dem Bereich der Ichimoku Kinko Hyo Theorie und mit den jeweili
 gen Kursausdehnungen der Elliott Wellen Theorie.\n\nRonny Raudies ist gele
 rnter Bankkaufmann und zertifizierter Finanzberater der Universität Passa
 u. Sein Interesse für die Aktienmärkte wurde 1996 während seiner Bankau
 sbildung durch die Gründung eines Börsen-Clubs geweckt. Zurzeit schließ
 t er die Ausbildung zum CFTe (zertifizierter technischer Analyst) ab. Zude
 m ist er Ansprechpartner für Vermögensverwaltungen im Bereich der techni
 schen Analyse von Indizes\, Aktien\, Rohstoffen und Währungen. Hierbei nu
 tzt er die Möglichkeiten der technischen Analyse\, insbesondere die Ellio
 tt-Wellen-Theorie\, um Kursbewegungen zu bestimmen.\n\n&nbsp\;\n\nChristop
 her Richter ist Diplom-Ökonom\, Trader\, Analyst und Berater. Sein Studiu
 m der Wirtschaftswissenschaften hat sein Feuer für die Börse und die Fin
 anzmärkte entfacht. Mit intensivem Selbststudium und diversen Seminaren h
 at er die Feinheiten der Chart Analyse erlernt und sich dabei auf die Elli
 ott-Wellen-Theorie spezialisiert. Mit der Einhaltung von Regeln und dem en
 tsprechenden Mut helfen die Elliott-Wellen\, an den Kursbewegungen zu prof
 itieren. Der Fokus liegt dabei auf kurz- als auch langfristigen Analysen v
 on Indizes\, Aktien\, Rohstoffen und Währungen.\n\n&nbsp\;\n\nRonny Raudi
 s und Christopher Richter betreiben unter https://www.elliottwellentheorie
 .de/\n\nIhren EW-Blog und Internetseite und sind VTAD-Fördermitglied.
CATEGORIES:Düsseldorf
END:VEVENT
BEGIN:VTIMEZONE
TZID:Europe/Berlin
X-LIC-LOCATION:Europe/Berlin
BEGIN:STANDARD
DTSTART:20221030T020000
TZOFFSETFROM:+0200
TZOFFSETTO:+0100
TZNAME:CET
END:STANDARD
END:VTIMEZONE
END:VCALENDAR