BEGIN:VCALENDAR
VERSION:2.0
PRODID:-//wp-events-plugin.com//7.2.3.1//EN
TZID:Europe/Berlin
X-WR-TIMEZONE:Europe/Berlin
BEGIN:VEVENT
UID:948@vtad.de
DTSTART;TZID=Europe/Berlin:20250515T181500
DTEND;TZID=Europe/Berlin:20250515T203000
DTSTAMP:20250520T183140Z
URL:https://www.vtad.de/rgt/ruediger-born-kommt-3/
SUMMARY:Elliott Wellen – von der Theorie zur Praxis
DESCRIPTION:Vortragsunterlagen (bitte einloggen): [members_logged_in] 2025-
 05-15 VTAD Elliott Wellen[/members_logged_in]\n\nDie Elliott-Wellen Analys
 e ist ein heiß debattiertes Thema mit kontroversen Diskussionen. Allerdin
 gs ist die Analyse der Märkte nach Ralph Nelson Elliott bei vielen profes
 sionellen Händlern durchaus beliebt und angesehen. Doch was ist wirklich 
 dran und wie ist die Elliott-Wellen Analyse erfolgreich anzuwenden?\n\nIn 
 diesem Vortrag zeigt Rüdiger Born\, institutioneller Händler und seit ru
 nd 20 Jahren mit dem Thema Elliott Wellen vertraut\, nicht nur die wichtig
 sten Grundformen der Elliott-Wellen Analyse\, sondern verknüpft das theor
 etische Wissen mit der so wichtigen praktischen Anwendung. Mit einem verei
 nfachten Ansatz kommen auch Einsteiger schnell in das Thema und können sc
 hon bald stete Erfolge erwarten.\n\nIhr Referent:\n\nDipl. Kfm. Rüdiger B
 orn ist geschäftsführender Gesellschafter von BORN Traders und instituti
 oneller Wertpapierhändler für Kunden und Partner rund um den Erdball. Er
  ist bereits seit Anfang der 90er Jahre im Wertpapierhandel tätig und han
 delt erfolgreich an den internationalen Börsen.\n\nDer Handel von Aktien 
 gehört ebenso zu seinem Handelsalltag wie das Trading mit Rohstoffen\, Zi
 nspapieren\, Währungen und mit Derivaten wie Futures und Optionen. Doch n
 eben den klassischen Anlageformen stehen natürlich auch CFDs in seinem Bl
 ickfeld.\n\nRüdiger Born\, der in Tokyo und Frankfurt lebt\, ist neben de
 m Trading auch Berater für verschiedene Börsen\, Banken und Finanzdienst
 leister weltweit. Zudem engagiert er sich in Seminaren und Coachings und g
 anz besonders im Rahmen von BORN-4-Trading auch für private Trader.\n\nR
 üdiger Born ist regelmäßig international im Fernsehen und Internet als 
 Handels- und Marktexperte zu sehen und veröffentlichte in der Vergangenhe
 it zahlreiche Artikel in der Finanzpresse. Daneben ist er häufig in den V
 TAD-Regionalgruppen als Referent zu Gast.
CATEGORIES:Nürnberg
LOCATION:eckstein haus der evang.-luth. kirche nürnberg
X-APPLE-STRUCTURED-LOCATION;VALUE=URI;X-ADDRESS=Burgstrasse 1-3\, Raum 1.01
 \, Nürnberg\, 90403 \, Bayern\, Deutschland;X-APPLE-RADIUS=100;X-TITLE=ec
 kstein haus der evang.-luth. kirche nürnberg:geo:0,0
END:VEVENT
BEGIN:VTIMEZONE
TZID:Europe/Berlin
X-LIC-LOCATION:Europe/Berlin
BEGIN:DAYLIGHT
DTSTART:20250330T030000
TZOFFSETFROM:+0100
TZOFFSETTO:+0200
TZNAME:CEST
END:DAYLIGHT
END:VTIMEZONE
END:VCALENDAR