BEGIN:VCALENDAR
VERSION:2.0
PRODID:-//wp-events-plugin.com//7.2.3.1//EN
TZID:Europe/Berlin
X-WR-TIMEZONE:Europe/Berlin
BEGIN:VEVENT
UID:580@vtad.de
DTSTART;TZID=Europe/Berlin:20221013T190000
DTEND;TZID=Europe/Berlin:20221013T190000
DTSTAMP:20220720T205800Z
URL:https://www.vtad.de/rgt/sektoren-im-rampenlicht-richtiges-timing-mit-h
 ilfe-des-relative-rotation-graph-rrg/
SUMMARY:Sektoren im Rampenlicht - Richtiges Timing mit Hilfe des Relative R
 otation Graph (RRG)
DESCRIPTION:Der „Relative Rotation Graph“ (RRG) ist in Deutschland nur 
 wenigen\, selbst erfahrenen Tradern und Investoren\, ein Begriff. Es hande
 lt sich um eine neue Art der Chart-Darstellung\, die relative Stärken und
  Schwächen im Aktienmarkt hervorragend visualisiert. Es dient der quantit
 ativen Aktien- und Intermarketanalyse.\n\nKurz gefasst: beim RRG werden di
 e zu bewertenden Handelsinstrumente in einer Matrix ins Verhältnis zueina
 nder und einem gewünschten Referenzmarkt gesetzt und in ein 4-Quadranten-
 Schema sortiert. Dadurch lässt sich rasch die relative Performance der Ei
 nzelwerte zueinander und dem Referenzmarkt überblicken.\n\n&nbsp\;\n\nSch
 nell und auf einen Chart erkennt man\, welche Märkte eher gemieden und in
  welche eher investiert werden könnte (Stärke vs. Schwäche). Oder wo es
  Zeit zum Aus- bzw. Einstieg in ein Asset ist (Trendwende).\n\nEntwickelt 
 vor ca. 10 Jahren vom holländischen Trader und Portfolio-Manager Julius d
 e Kempenaer\, ist der RRG auf den wichtigsten Tradingplattformen wie Bloom
 berg\, Reuters und Stockcharts vertreten. Und trotzdem noch recht unbekann
 t.\n\n&nbsp\;\n\nDer Referent:\n\nMurat Örs ist wie so viele Trader-Kolle
 gen ein Quereinsteiger in diesen Beruf.\n\nNeben dem Studium und der Arbei
 t im öffentlichen Dienst beschäftigt er sich seit über zehn Jahren mit 
 der Börse und Investments.\n\nMit dem letzten Crypto-Bullenmarkt 2017 war
  er endgültig mit dem “Tradingvirus” infiziert und investierte seitde
 m jede freie Minute ins Studium der Aktien- und Futuremärkte.\n\nNach meh
 reren Coachings und vielem Auf und Ab\, fand er schließlich seinen eigene
 n Handelsstil und ist seit drei Jahren konstanter Day- und Swingtrader.\n\
 nEr handelt hauptsächlich Rohstoff-Future und den US-Aktienmarkt.\n\nZykl
 en- und Volumenanalyse sind seine wichtigsten Handelswerkzeuge im täglich
 en Aktiengeschäft. Und seit seiner Entdeckung vor drei Jahren ist der RRG
  Chart in seiner täglichen Routine vertreten.
CATEGORIES:Düsseldorf
END:VEVENT
BEGIN:VTIMEZONE
TZID:Europe/Berlin
X-LIC-LOCATION:Europe/Berlin
BEGIN:DAYLIGHT
DTSTART:20220327T030000
TZOFFSETFROM:+0100
TZOFFSETTO:+0200
TZNAME:CEST
END:DAYLIGHT
END:VTIMEZONE
END:VCALENDAR