BEGIN:VCALENDAR
VERSION:2.0
PRODID:-//wp-events-plugin.com//7.2.3.1//EN
TZID:Europe/Berlin
X-WR-TIMEZONE:Europe/Berlin
BEGIN:VEVENT
UID:199@vtad.de
DTSTART;TZID=Europe/Berlin:20210819T183000
DTEND;TZID=Europe/Berlin:20210819T213000
DTSTAMP:20210803T162657Z
URL:https://www.vtad.de/rgt/sommertreffen-im-krakauer-turm/
SUMMARY:Sommertreffen im Steiner's
DESCRIPTION:Liebe Mitglieder und Freunde der VTAD Nürnberg\,\n\nwährend d
 er Sommerferien im August findet in Nürnberg traditionell keine Vortragsv
 eranstaltung statt. Um den Austausch zwischen den Mitgliedern auch währen
 d der Urlaubszeit nicht abreißen zu lassen\, wollen wir uns in gemütlich
 er Atmosphäre zum Sommerstammtisch treffen.  Eine separate Infomail geht
  noch raus.\n\nWann: Donnerstag\, 19. August 2021\,  ab 18:30 Uhr\n\nWo: 
 Steiner's\n\nTucherstrasse 21\, 90403 Nürnberg\n\nhttps://www.steiners.de
 \n\nFür die Teilnahme an dieser Veranstaltung ist eine Anmeldung per Mail
  erforderlich. Anmeldungen bitte an rm.nuernberg@vtad.de\n\nMaximale Teiln
 ehmerzahl 12 Personen.\n\nHerzliche Grüße\,\n\nIhr Team der VTAD-Regiona
 lgruppe Nürnberg
CATEGORIES:Nürnberg
END:VEVENT
BEGIN:VTIMEZONE
TZID:Europe/Berlin
X-LIC-LOCATION:Europe/Berlin
BEGIN:DAYLIGHT
DTSTART:20210328T030000
TZOFFSETFROM:+0100
TZOFFSETTO:+0200
TZNAME:CEST
END:DAYLIGHT
END:VTIMEZONE
END:VCALENDAR