BEGIN:VCALENDAR
VERSION:2.0
PRODID:-//wp-events-plugin.com//7.2.3.1//EN
TZID:Europe/Berlin
X-WR-TIMEZONE:Europe/Berlin
BEGIN:VEVENT
UID:667@vtad.de
DTSTART;TZID=Europe/Berlin:20230615T183000
DTEND;TZID=Europe/Berlin:20230615T200000
DTSTAMP:20230606T065952Z
URL:https://www.vtad.de/rgt/steuern-runter-rendite-rauf-steueroptimiertes-
 investieren-mit-der-trading-gmbh/
SUMMARY:Steuern runter\, Rendite rauf - Steueroptimiertes Investieren mit d
 er Trading-GmbH
DESCRIPTION:Jeder Privatanleger der an der Börse aktiv ist\, sei es als Ku
 rzfristtrader oder Langfristanleger\, kommt jährlich im Rahmen seiner Ste
 uererklärung mit dem deutschen Steuerrecht in Berührung. Wurden im abgel
 aufenen Börsenjahr ordentliche Gewinne eingefahren\, so werden auch entsp
 rechend hohe Steuern fällig. Manch einer stellt sich dann die Frage\, wel
 che Möglichkeiten es gibt\, die Steuerlast auf Kapitaleinkünfte zu optim
 ieren. „Da kann man nicht viel machen...?“ - Doch! Eine Trading-GmbH b
 ietet mächtige Möglichkeiten\, um die Steuerlast beim Trading zu senken.
  Beispielsweise muss eine vermögensverwaltende GmbH nur ca. 1\,54% Steuer
 n auf Aktien-Veräußerungsgewinne zahlen.\n&nbsp\;\nUnter dem Titel „St
 euern runter\, Rendite rauf - Steueroptimiertes Investieren mit der Tradin
 g-GmbH“ erklärt am heutigen Abend Mark Kubat von Ride Capital GmbH eine
  vermögensverwaltende GmbH ist\, wie sie funktioniert\, was zu beachten i
 st  und für wen sie sich lohnt.\n&nbsp\;\nIhre Referent: Mark Kubat von 
 Ride Capital \n \n 
CATEGORIES:Stuttgart
LOCATION:Haus der Wirtschaft
X-APPLE-STRUCTURED-LOCATION;VALUE=URI;X-ADDRESS= Willi-Bleicher-Straße 19\
 , Stuttgart\, 71174\, Deutschland;X-APPLE-RADIUS=100;X-TITLE=Haus der Wirt
 schaft:geo:0,0
END:VEVENT
BEGIN:VTIMEZONE
TZID:Europe/Berlin
X-LIC-LOCATION:Europe/Berlin
BEGIN:DAYLIGHT
DTSTART:20230326T030000
TZOFFSETFROM:+0100
TZOFFSETTO:+0200
TZNAME:CEST
END:DAYLIGHT
END:VTIMEZONE
END:VCALENDAR