BEGIN:VCALENDAR
VERSION:2.0
PRODID:-//wp-events-plugin.com//7.2.3.1//EN
TZID:Europe/Berlin
X-WR-TIMEZONE:Europe/Berlin
BEGIN:VEVENT
UID:808@vtad.de
DTSTART;TZID=Europe/Berlin:20240215T183000
DTEND;TZID=Europe/Berlin:20240215T204500
DTSTAMP:20231219T090557Z
URL:https://www.vtad.de/rgt/stillhalten-nach-dem-evu-prinzip-verkauf-von-u
 s-aktien-optionen/
SUMMARY:Stillhalten nach dem EVU-Prinzip: Verkauf von US-Aktien-Optionen
DESCRIPTION:Thomas Bopp: Stillhalten nach dem EVU-Prinzip: Verkauf von US-A
 ktien-Optionen\n\n&nbsp\;\n\nDer Verkauf von Optionen ist lukrativ\, keine
  Frage\, vgl. https://collective2.com/details/123962173. Um professionell
 es Stillhalten zu meistern\, ist allerdings das nötige Hintergrundwissen 
 von nöten. Dieses wird Thomas Bopp in seinem Vortrag vermitteln:\n\n 	Was
  ist das benötigte Startkapital?\n 	Mit welchem Broker kann man handeln?\
 n 	Welche Märkte soll man überhaupt handeln?\n 	Was kann man als Handels
 ergebnis erwarten?\n\nThomas Bopp gibt die Antworten und stellt einen Teil
  seiner zwölf Strategien vor\, mit denen er die idealen Handelskandidaten
  täglich ausfindig machen kann.\n\nIn „Bopp's Börsenecke“ präsentie
 rt er dazu im YouTube-„TAI-PAN-TV“-Kanal immer in der zweiten Kalender
 woche des Monats einige Tradingideen. Dort können Sie vorab schon mal sch
 nuppern…\n\nThomas Bopp hat als Handelssystementwickler und Charttechnik
 er bereits über 35 Jahre Markterfahrung gesammelt. Der überzeugte Chartt
 echniker ist bekannt durch eine Vielzahl von Knowhow-Artikeln über versch
 iedene Anlagestrategien\, die er unter anderem im TRADERS-Magazin veröffe
 ntlicht.
CATEGORIES:Düsseldorf
END:VEVENT
BEGIN:VTIMEZONE
TZID:Europe/Berlin
X-LIC-LOCATION:Europe/Berlin
BEGIN:STANDARD
DTSTART:20231029T020000
TZOFFSETFROM:+0200
TZOFFSETTO:+0100
TZNAME:CET
END:STANDARD
END:VTIMEZONE
END:VCALENDAR