BEGIN:VCALENDAR
VERSION:2.0
PRODID:-//wp-events-plugin.com//7.2.3.1//EN
TZID:Europe/Berlin
X-WR-TIMEZONE:Europe/Berlin
BEGIN:VEVENT
UID:1034@vtad.de
DTSTART;TZID=Europe/Berlin:20251113T183000
DTEND;TZID=Europe/Berlin:20251113T200000
DTSTAMP:20250919T121007Z
URL:https://www.vtad.de/rgt/supply-demand/
SUMMARY:Steuern im Trading – Grundlagen für Anleger und Trader
DESCRIPTION:Erfolgreiches Trading endet nicht mit der richtigen Marktstrate
 gie – entscheidend ist auch die steuerliche Behandlung. Wer Gewinne lang
 fristig sichern will\, muss die steuerlichen Grundlagen kennen: von der Ve
 rlustverrechnung über die Besteuerung unterschiedlicher Anlageklassen bis
  hin zu Besonderheiten bei Fremdwährungskonten.\n\nIn meinem Vortrag verm
 ittle ich einen praxisnahen Überblick und zeige\, wie Trader und Anleger 
 steuerlich optimal aufgestellt sind.\n\nDer Referent:\nLukas Montigel ist 
 Steuerberater und Gesellschafter-Geschäftsführer der Montigel Steuerbera
 tungs GmbH mit Schwerpunkt Kapitalmarkt und Finanzanlagen. Nach seinem Stu
 dium der Wirtschaftswissenschaften an der Universität Hohenheim ist er se
 it 2003 in der Steuerberatung tätig. Von 2007 bis 2023 arbeitete er als S
 yndikus-Steuerberater bei der Landesbank Baden-Württemberg.\n\nDarüber h
 inaus war er Mitglied der Lehrplankommission für das Fach Steuerrecht an 
 Berufsschulen sowie Mitglied des Steuerausschusses des Deutschen Derivatev
 erbands (DDV). Als Autor schrieb er u.a. Beiträge zur Abgeltungsteuer im 
 Steuerberaterhandbuch.\n\nNäheres unter https://www.montigel.org
CATEGORIES:Stuttgart
LOCATION:Haus der Wirtschaft
X-APPLE-STRUCTURED-LOCATION;VALUE=URI;X-ADDRESS= Willi-Bleicher-Straße 19\
 , Stuttgart\, 71174\, Deutschland;X-APPLE-RADIUS=100;X-TITLE=Haus der Wirt
 schaft:geo:0,0
END:VEVENT
BEGIN:VTIMEZONE
TZID:Europe/Berlin
X-LIC-LOCATION:Europe/Berlin
BEGIN:STANDARD
DTSTART:20251026T020000
TZOFFSETFROM:+0200
TZOFFSETTO:+0100
TZNAME:CET
END:STANDARD
END:VTIMEZONE
END:VCALENDAR