BEGIN:VCALENDAR
VERSION:2.0
PRODID:-//wp-events-plugin.com//7.2.3.1//EN
TZID:Europe/Berlin
X-WR-TIMEZONE:Europe/Berlin
BEGIN:VEVENT
UID:461@vtad.de
DTSTART;TZID=Europe/Berlin:20211021T180000
DTEND;TZID=Europe/Berlin:20211021T200000
DTSTAMP:20211012T091146Z
URL:https://www.vtad.de/rgt/tba-26/
SUMMARY:Thomas Hartmann - Trading für Vielbeschäftigte
DESCRIPTION:Ein paar Infos habt Ihr schon zu unserem stellvertretenden Regi
 onalmanager Thomas Hartmann erhalten. Im Detail: Er ist im DAX-Future zu H
 ause und handelt diesen fast täglich. Da er frisch eine Trading GmbH übe
 r einen Dienstleister gegründet hat und sich intensiv mit der Suche nach 
 dem „besten kostenlosen Charttool“ auseinandergesetzt hat\, bekommt Ih
 r in diesem Vortrag einen ausführlichen Einblick in sein tägliches Hande
 ln und mit Sicherheit Antworten auf die vielen Fragen\, die ihr tagtäglic
 h habt. Ihr werdet auch erfahren\, was aus seiner Sicht im kurzfristigen H
 andel möglich ist\, wie man wann wo agieren sollte und wie man mit Tradin
 gView so gut arbeiten kann\, dass man seine Performance deutlich steigern 
 kann.\n\nFür die Einstimmung und um vorher einen kleinen Einblick zur bek
 ommen besucht ihn doch bei Instagram: https://www.instagram.com/hartmannka
 pital/ oder schaut Euch seine Videos bei YouTube an: https://www.youtube.c
 om/c/HartmannKapital/ Ebenso erhaltet Ihr Infos auf seiner Webseite: https
 ://hartmann-kapital.de
CATEGORIES:Stuttgart
LOCATION:Haus der Wirtschaft
X-APPLE-STRUCTURED-LOCATION;VALUE=URI;X-ADDRESS= Willi-Bleicher-Straße 19\
 , Stuttgart\, 71174\, Deutschland;X-APPLE-RADIUS=100;X-TITLE=Haus der Wirt
 schaft:geo:0,0
END:VEVENT
BEGIN:VTIMEZONE
TZID:Europe/Berlin
X-LIC-LOCATION:Europe/Berlin
BEGIN:DAYLIGHT
DTSTART:20210328T030000
TZOFFSETFROM:+0100
TZOFFSETTO:+0200
TZNAME:CEST
END:DAYLIGHT
END:VTIMEZONE
END:VCALENDAR