BEGIN:VCALENDAR
VERSION:2.0
PRODID:-//wp-events-plugin.com//7.2.3.1//EN
TZID:Europe/Berlin
X-WR-TIMEZONE:Europe/Berlin
BEGIN:VEVENT
UID:465@vtad.de
DTSTART;TZID=Europe/Berlin:20211111T183000
DTEND;TZID=Europe/Berlin:20211111T203000
DTSTAMP:20211101T083541Z
URL:https://www.vtad.de/rgt/tba-27/
SUMMARY:Nils Gajowiy - Das Beste aus drei Welten
DESCRIPTION:Update 2021: Das Beste aus drei Welten\nDie Synthese von Sentim
 ent-\, Fundamental- und Technischer Analyse hat sich seit Jahren auch im I
 nvestieren bewährt. Welche Werkzeuge hierbei genutzt werden und mit welch
 em Ziel\, welche Erfahrungen gemacht wurden\, was verändert und was über
  Bord geworfen wurde\, ist Gegenstand des Vortrags.\nInformationen zum Ref
 erenten finden Sie hier: https://www.gajowiy.com/
CATEGORIES:Stuttgart
LOCATION:Haus der Wirtschaft
X-APPLE-STRUCTURED-LOCATION;VALUE=URI;X-ADDRESS= Willi-Bleicher-Straße 19\
 , Stuttgart\, 71174\, Deutschland;X-APPLE-RADIUS=100;X-TITLE=Haus der Wirt
 schaft:geo:0,0
END:VEVENT
BEGIN:VTIMEZONE
TZID:Europe/Berlin
X-LIC-LOCATION:Europe/Berlin
BEGIN:STANDARD
DTSTART:20211031T020000
TZOFFSETFROM:+0200
TZOFFSETTO:+0100
TZNAME:CET
END:STANDARD
END:VTIMEZONE
END:VCALENDAR