BEGIN:VCALENDAR
VERSION:2.0
PRODID:-//wp-events-plugin.com//7.2.3.1//EN
TZID:Europe/Berlin
X-WR-TIMEZONE:Europe/Berlin
BEGIN:VEVENT
UID:617@vtad.de
DTSTART;TZID=Europe/Berlin:20230112T183000
DTEND;TZID=Europe/Berlin:20230112T200000
DTSTAMP:20221227T081643Z
URL:https://www.vtad.de/rgt/tba-33/
SUMMARY:Trading & Gambling - was Trader von Spielcasinos lernen können
DESCRIPTION:Für Trader lohnt sich der Blick ins Spielcasino: Es kommt nich
 t auf das nächste Spiel an\, sondern auf die Summe aller Spiele am Ende d
 es Tages. Das ist die Perspektive der Spielbank. Warum sagen die besten Tr
 ader\, dass der Ausgang des nächsten Trades weder vorhersehbar noch wicht
 ig ist? Warum konzentrieren sie sich lediglich auf die Umsetzung einer Han
 delsstrategie mit positivem Erwartungswert?\n\n&nbsp\;\n\nLogisches Kalkü
 l statt Spekulation: Trading aus der Perspektive einer Spielbank macht den
  entscheidenden Unterschied. Erfahrene Trader denken in Wahrscheinlichkeit
 en und Erwartungswerten. Sie versuchen erst gar nicht\, den Markt vorherzu
 sagen. Sie rechnen ihre Chancen aus und spekulieren nicht. Es ist ein Zahl
 enspiel\, das keine Gesetzmäßigkeiten kennt. Wer das verinnerlicht hat\,
  wird sich auch nicht mit einzelnen Verlusten identifizieren oder Verluste
  persönlich nehmen. Der nächste Trade ist immer nur einer von vielen. Er
 fahrene Trader haben gelernt zu akzeptieren\, dass der Ausgang des nächst
 en Trades immer ungewiss ist. Und sie müssen es auch nicht wissen\, um er
 folgreich zu sein. Die Summe aller Trades entscheidet über die Profitabil
 ität der Handelsstrategie\, nicht der einzelne Trade.\n\n&nbsp\;\n\nBlogb
 eitrag zum Thema:\n\nhttps://www.roland-ullrich.com/boerse-und-gluecksspie
 l-was-koennen-trader-von-spielcasinos-lernen/?fbclid=IwAR1_uwmOh-oQOBJVAvD
 YbXTUntUQLHQ39UZzf-AgLeOK5-MV_S3D7l-t7Vk\n\nVideo zum Thema:\n\nhttps://ww
 w.youtube.com/watch?v=a-Jbt01DrC0\n\n&nbsp\;\n\nEin paar Takte über den R
 eferenten finden Sie hier: https://www.roland-ullrich.com/ueber/
CATEGORIES:Stuttgart
LOCATION:Haus der Wirtschaft
X-APPLE-STRUCTURED-LOCATION;VALUE=URI;X-ADDRESS= Willi-Bleicher-Straße 19\
 , Stuttgart\, 71174\, Deutschland;X-APPLE-RADIUS=100;X-TITLE=Haus der Wirt
 schaft:geo:0,0
END:VEVENT
BEGIN:VTIMEZONE
TZID:Europe/Berlin
X-LIC-LOCATION:Europe/Berlin
BEGIN:STANDARD
DTSTART:20221030T020000
TZOFFSETFROM:+0200
TZOFFSETTO:+0100
TZNAME:CET
END:STANDARD
END:VTIMEZONE
END:VCALENDAR