BEGIN:VCALENDAR
VERSION:2.0
PRODID:-//wp-events-plugin.com//7.2.3.1//EN
TZID:Europe/Berlin
X-WR-TIMEZONE:Europe/Berlin
BEGIN:VEVENT
UID:394@vtad.de
DTSTART;TZID=Europe/Berlin:20210310T183000
DTEND;TZID=Europe/Berlin:20210310T210000
DTSTAMP:20210308T164206Z
URL:https://www.vtad.de/rgt/technische-analyse-von-mitgliedern-fuer-mitgli
 eder-5/
SUMMARY:Technische Analyse von Mitgliedern für Mitglieder +++ ACHTUNG: WEB
 INAR +++
DESCRIPTION:Aufgrund der Verlängerung des Lockdowns bis zum 28.03.2021 sin
 d Präsenzveranstaltungen in unserer Location "Haus eckstein" weiterhin le
 ider nicht gestattet. Der Workshop "Technische Analyse von Mitgliedern fü
 r Mitglieder" mit Ralf Fayad (CFTe) wird deshalb als Webinar veranstaltet.
  Eine Mail mit dem Einwahllink wird einen Tag vor der Veranstaltung an die
  Mitglieder der RG Nürnberg sowie auf dem Nürnberger Mailverteiler regis
 trierte Interessenten verschickt.\n\nIn diesem Workshop möchten wir mit I
 hnen gemeinsam die aktuelle Lage verschiedener Märkte mit Hilfe der techn
 ischen Analyse beleuchten. Dazu ist IHRE aktive Mitarbeit erforderlich\, d
 enn welche Werte untersucht werden\, bestimmen alleine Sie! Das kann ein I
 ndex\, eine Aktie\, ein Rohstoff\, ein Währungspaar\, ein Optionsschein\,
  ein ETF\,… sein. Vielleicht haben Sie eine interessante Aktie seit eini
 ger Zeit auf Ihrer Watchlist und möchten gerne wissen\, ob ein Einstieg (
 long oder short) aus technischer Sicht aussichtsreich erscheint? Sehen Sie
  in einem Währungschart eine interessante Formation oder hat ein Indikato
 r für einen Rohstoff ein Verkaufssignal generiert\, Sie sind sich aber ni
 cht sicher\, wie dieses Signal zu bewerten ist?\n\nBringen Sie Ihre Tradin
 g-Idee einfach mit und schildern Sie uns Ihre persönliche Meinung dazu! 
 Ralf Fayad (CFTe) wird am Laptop den Chart Ihres Wertes aufrufen\, gemeins
 am mit dem Auditorium werden wir über das Chartbild\, Indikatoren usw. di
 skutieren und versuchen\, eine technische Analyse zu erstellen. Gerne kön
 nen Sie uns Ihre Idee auch vorab per Mail schicken: rm.nuernberg@vtad.de\
 n\nWir wünschen uns eine abwechslungsreiche Diskussion mit Ihnen gemeinsa
 m\, in der die praktische Anwendung der technischen Analyse im Mittelpunkt
  stehen soll. Aus diesem Grunde möchten wir Sie bitten\, sich als Vorbere
 itung daheim ein paar Notizen zu Ihren Trading-Ideen zu machen und diese z
 ur Diskussion mitzubringen\, da wir den Abend nicht als eine reine „Zuru
 f“-Analyse verlaufen lassen möchten.\n\nBitte haben Sie Verständnis da
 für\, wenn Exoten\, der eine oder andere Pennystock oder ein außergewöh
 nlicher Index unter Umständen nicht analysiert werden kann\, wenn ausgere
 chnet dieser Wert nicht in der Datenbank der Chartsoftware enthalten ist.\
 n\nWir freuen uns auf einen spannenden und abwechslungsreichen Abend!\n\nD
 er Referent: Der gelernte Jurist Ralf Fayad beschäftigt sich seit Mitte 
 der Neunziger Jahre intensiv mit der Technischen Analyse. Zunächst als Tr
 ader im Eigenhandel und seit 2005 als freiberuflicher Wirtschaftsjournalis
 t und Autor mehrerer täglich erscheinender Trading-Newsletter für divers
 e Finanzinstitute weltweit. Seit 2011 schreibt der zertifizierte Technisch
 e Analyst (CFTe) unter anderem den täglich erscheinenden Trading-Newslett
 er der Commerzbank „ideas daily“. Daneben ist Herr Fayad in der Verein
 igung Technischer Analysten Deutschlands (VTAD) als stellvertretender Regi
 onalmanager und Ausbildungsbeauftragter der Regionalgruppe Nürnberg aktiv
 . Er gehört zudem regelmäßig zum Referentenkreis auf der VTAD-Frühjahr
 skonferenz und verschiedenen Börsentagen. In Vorträgen\, Seminaren\, Web
 inaren\, Workshops und als Trading-Mentor/Trading-Coach gibt er sein Wisse
 n und seine langjährigen Erfahrungen an angehende Trader weiter.\n\n\n\n\
 n\n\n\n\n\n\n\n\n\n\n
CATEGORIES:Nürnberg
END:VEVENT
BEGIN:VTIMEZONE
TZID:Europe/Berlin
X-LIC-LOCATION:Europe/Berlin
BEGIN:STANDARD
DTSTART:20201025T020000
TZOFFSETFROM:+0200
TZOFFSETTO:+0100
TZNAME:CET
END:STANDARD
END:VTIMEZONE
END:VCALENDAR