BEGIN:VCALENDAR
VERSION:2.0
PRODID:-//wp-events-plugin.com//7.2.3.1//EN
TZID:Europe/Berlin
X-WR-TIMEZONE:Europe/Berlin
BEGIN:VEVENT
UID:402@vtad.de
DTSTART;TZID=Europe/Berlin:20211209T183000
DTEND;TZID=Europe/Berlin:20211209T210000
DTSTAMP:20211126T143834Z
URL:https://www.vtad.de/rgt/technische-analyse-von-mitgliedern-fuer-mitgli
 eder-6/
SUMMARY:Technische Analyse von Mitgliedern für Mitglieder (+++wegen der ak
 tuellen Corona-Lage als Webinar+++)
DESCRIPTION:In diesem Workshop möchten wir mit Ihnen gemeinsam die aktuell
 e Lage verschiedener Märkte mit Hilfe der technischen Analyse beleuchten.
  Dazu ist IHRE aktive Mitarbeit erforderlich\, denn welche Werte untersuch
 t werden\, bestimmen alleine Sie! Das kann ein Index\, eine Aktie\, ein Ro
 hstoff\, ein Währungspaar\, ein Optionsschein\, ein ETF\,… sein. Vielle
 icht haben Sie eine interessante Aktie seit einiger Zeit auf Ihrer Watchli
 st und möchten gerne wissen\, ob ein Einstieg (long oder short) aus techn
 ischer Sicht aussichtsreich erscheint? Sehen Sie in einem Währungschart e
 ine interessante Formation oder hat ein Indikator für einen Rohstoff ein 
 Verkaufssignal generiert\, Sie sind sich aber nicht sicher\, wie dieses Si
 gnal zu bewerten ist?\n\nBringen Sie Ihre Trading-Idee einfach mit und sch
 ildern Sie uns Ihre persönliche Meinung dazu! Ralf Fayad wird am Laptop
  den Chart Ihres Wertes aufrufen\, gemeinsam mit dem Auditorium werden wir
  über das Chartbild\, Indikatoren usw. diskutieren und versuchen\, eine t
 echnische Analyse zu erstellen. Gerne können Sie uns Ihre Idee auch vorab
  per Mail schicken: rm.nuernberg@vtad.de\n\nWir wünschen uns eine abwech
 slungsreiche Diskussion mit Ihnen gemeinsam\, in der die praktische Anwend
 ung der technischen Analyse im Mittelpunkt stehen soll. Aus diesem Grunde 
 möchten wir Sie bitten\, sich als Vorbereitung daheim ein paar Notizen zu
  Ihren Trading-Ideen zu machen und diese zur Diskussion mitzubringen\, da 
 wir den Abend nicht als eine reine „Zuruf“-Analyse verlaufen lassen m
 öchten.\n\nBitte haben Sie Verständnis dafür\, wenn Exoten\, der eine o
 der andere Pennystock oder ein außergewöhnlicher Index unter Umständen 
 nicht analysiert werden kann\, wenn ausgerechnet dieser Wert nicht in der 
 Datenbank der Chartsoftware enthalten ist.\n\nWir freuen uns auf einen spa
 nnenden und abwechslungsreichen Abend!\n\nDer Referent: Der gelernte Juris
 t Ralf Fayad beschäftigt sich seit Mitte der Neunziger Jahre intensiv mit
  der Technischen Analyse. Zunächst als Trader im Eigenhandel und seit 200
 5 als freiberuflicher Wirtschaftsjournalist und Autor mehrerer täglich er
 scheinender Trading-Newsletter für diverse Finanzinstitute weltweit. Seit
  2011 schreibt der zertifizierte Technische Analyst (CFTe) unter anderem d
 en täglich erscheinenden Trading-Newsletter der Commerzbank „ideas dail
 y“. Daneben ist Herr Fayad in der Vereinigung Technischer Analysten Deut
 schlands (VTAD) als stellvertretender Regionalmanager und Ausbildungsbeauf
 tragter der Regionalgruppe Nürnberg aktiv. Er gehört zudem regelmäßig 
 zum Referentenkreis auf der VTAD-Frühjahrskonferenz und verschiedenen Bö
 rsentagen. In Vorträgen\, Seminaren\, Webinaren\, Workshops und als Tradi
 ng-Mentor/Trading-Coach gibt er sein Wissen und seine langjährigen Erfahr
 ungen an angehende Trader weiter.\n\nWichtiger Hinweis: aufgrund der steti
 g steigenden Inzidenzzahlen\, Aufforderung seitens der bay. Landesregierun
 g und des RKI\, Kontakte weitestgehend einzuschränken und nicht zuletzt w
 egen nochmal verschärften Corona-Auflagen im Haus Eckstein (2Gplus) wird 
 die Veranstaltung nicht als Präsenztreffen sondern als Webinar online sta
 ttfinden. Genaue Infos folgen zeitnah per Mail.\n\n&nbsp\;
CATEGORIES:Nürnberg
END:VEVENT
BEGIN:VTIMEZONE
TZID:Europe/Berlin
X-LIC-LOCATION:Europe/Berlin
BEGIN:STANDARD
DTSTART:20211031T020000
TZOFFSETFROM:+0200
TZOFFSETTO:+0100
TZNAME:CET
END:STANDARD
END:VTIMEZONE
END:VCALENDAR