BEGIN:VCALENDAR
VERSION:2.0
PRODID:-//wp-events-plugin.com//7.2.3.1//EN
TZID:Europe/Berlin
X-WR-TIMEZONE:Europe/Berlin
BEGIN:VEVENT
UID:553@vtad.de
DTSTART;TZID=Europe/Berlin:20220721T183000
DTEND;TZID=Europe/Berlin:20220721T210000
DTSTAMP:20220504T203752Z
URL:https://www.vtad.de/rgt/technische-analyse-von-mitgliedern-fuer-mitgli
 eder-9/
SUMMARY:Technische Analyse von Mitgliedern für Mitglieder
DESCRIPTION:In diesem Workshop möchten wir mit Ihnen gemeinsam die aktuell
 e Lage verschiedener Märkte mit Hilfe der technischen Analyse beleuchten.
  Dazu ist IHRE aktive Mitarbeit erforderlich\, denn welche Werte untersuch
 t werden\, bestimmen alleine Sie! Das kann ein Index\, eine Aktie\, ein Ro
 hstoff\, ein Währungspaar\, ein Optionsschein\, ein ETF\,… sein. Vielle
 icht haben Sie eine interessante Aktie seit einiger Zeit auf Ihrer Watchli
 st und möchten gerne wissen\, ob ein Einstieg (long oder short) aus techn
 ischer Sicht aussichtsreich erscheint? Sehen Sie in einem Währungschart e
 ine interessante Formation oder hat ein Indikator für einen Rohstoff ein 
 Verkaufssignal generiert\, Sie sind sich aber nicht sicher\, wie dieses Si
 gnal zu bewerten ist?\n\nBringen Sie Ihre Trading-Idee einfach mit und sch
 ildern Sie uns Ihre persönliche Meinung dazu! Ralf Fayad wird am Laptop
  den Chart Ihres Wertes aufrufen\, gemeinsam mit dem Auditorium werden wir
  über das Chartbild\, Indikatoren usw. diskutieren und versuchen\, eine t
 echnische Analyse zu erstellen. Gerne können Sie uns Ihre Idee auch vorab
  per Mail schicken: rm.nuernberg@vtad.de\n\nWir wünschen uns eine abwech
 slungsreiche Diskussion mit Ihnen gemeinsam\, in der die praktische Anwend
 ung der technischen Analyse im Mittelpunkt stehen soll. Aus diesem Grunde 
 möchten wir Sie bitten\, sich als Vorbereitung daheim ein paar Notizen zu
  Ihren Trading-Ideen zu machen und diese zur Diskussion mitzubringen\, da 
 wir den Abend nicht als eine reine „Zuruf“-Analyse verlaufen lassen m
 öchten.\n\nBitte haben Sie Verständnis dafür\, wenn Exoten\, der eine o
 der andere Pennystock oder ein außergewöhnlicher Index unter Umständen 
 nicht analysiert werden kann\, wenn ausgerechnet dieser Wert nicht in der 
 Datenbank der Chartsoftware enthalten ist.\n\nWir freuen uns auf einen spa
 nnenden und abwechslungsreichen Abend!\n\nIhr Referent:\n\nDer gelernte Ju
 rist Ralf Fayad beschäftigt sich seit Mitte der Neunziger Jahre intensiv 
 mit der Technischen Analyse. Zunächst als Trader im Eigenhandel und seit 
 2005 als freiberuflicher Wirtschaftsjournalist und Autor mehrerer täglich
  erscheinender Trading-Newsletter für diverse Finanzinstitute weltweit. S
 eit 2011 schreibt der zertifizierte Technische Analyst (CFTe) unter andere
 m den täglich erscheinenden Trading-Newsletter der Commerzbank „ideas d
 aily“. Daneben ist Herr Fayad in der Vereinigung Technischer Analysten D
 eutschlands (VTAD) als stellvertretender Regionalmanager und Ausbildungsbe
 auftragter der Regionalgruppe Nürnberg aktiv. Er gehört zudem regelmäß
 ig zum Referentenkreis auf der VTAD-Frühjahrskonferenz und verschiedenen 
 Börsentagen. In Vorträgen\, Seminaren\, Webinaren\, Workshops und als Tr
 ading-Mentor/Trading-Coach gibt er sein Wissen und seine langjährigen Erf
 ahrungen an angehende Trader weiter.
CATEGORIES:Nürnberg
LOCATION:eckstein haus der evang.-luth. kirche nürnberg
X-APPLE-STRUCTURED-LOCATION;VALUE=URI;X-ADDRESS=Burgstrasse 1-3\, Raum 1.01
 \, Nürnberg\, 90403 \, Bayern\, Deutschland;X-APPLE-RADIUS=100;X-TITLE=ec
 kstein haus der evang.-luth. kirche nürnberg:geo:0,0
END:VEVENT
BEGIN:VTIMEZONE
TZID:Europe/Berlin
X-LIC-LOCATION:Europe/Berlin
BEGIN:DAYLIGHT
DTSTART:20220327T030000
TZOFFSETFROM:+0100
TZOFFSETTO:+0200
TZNAME:CEST
END:DAYLIGHT
END:VTIMEZONE
END:VCALENDAR