BEGIN:VCALENDAR
VERSION:2.0
PRODID:-//wp-events-plugin.com//7.2.3.1//EN
TZID:Europe/Berlin
X-WR-TIMEZONE:Europe/Berlin
BEGIN:VEVENT
UID:742@vtad.de
DTSTART;TZID=Europe/Berlin:20231206T183000
DTEND;TZID=Europe/Berlin:20231206T210000
DTSTAMP:20230814T114710Z
URL:https://www.vtad.de/rgt/technische-analyse-von-mitgliedern-fuer-mitgli
 eder-workshop-3/
SUMMARY:Technische Analyse von Mitgliedern für Mitglieder (Workshop)
DESCRIPTION:In unserem beliebten Workshop möchten wir wieder mit Ihnen gem
 einsam die aktuelle Lage verschiedener Märkte mit Hilfe der technischen A
 nalyse beleuchten. Dazu ist IHRE aktive Mitarbeit erforderlich\, denn welc
 he Werte untersucht werden\, bestimmen alleine Sie! Das kann ein Index\, e
 ine Aktie\, ein Rohstoff\, ein Währungspaar\, ein Optionsschein\, ein ETF
 \,… sein. Vielleicht haben Sie eine interessante Aktie seit einiger Zeit
  auf Ihrer Watchlist und möchten gerne wissen\, ob ein Einstieg (long ode
 r short) aus technischer Sicht aussichtsreich erscheint? Sehen Sie in eine
 m Währungschart eine interessante Formation oder hat ein Indikator für e
 inen Rohstoff ein Verkaufssignal generiert\, Sie sind sich aber nicht sich
 er\, wie dieses Signal zu bewerten ist?  Bringen Sie Ihre Trading-Idee ei
 nfach mit und schildern Sie uns Ihre persönliche Meinung dazu! \nRalf Fay
 ad (CFTe) wird am Laptop den Chart Ihres Wertes aufrufen\, gemeinsam mit d
 em Auditorium werden wir über das Chartbild\, Indikatoren usw. diskutiere
 n und versuchen\, eine technische Analyse zu erstellen. Gerne können Sie 
 uns Ihre Idee auch vorab per Mail schicken: rm.nuernberg@vtad.de\n&nbsp\;\
 nWir wünschen uns eine abwechslungsreiche Diskussion mit Ihnen gemeinsam\
 , in der die praktische Anwendung der technischen Analyse im Mittelpunkt s
 tehen soll. Aus diesem Grunde möchten wir Sie bitten\, sich als Vorbereit
 ung daheim ein paar Notizen zu Ihren Trading-Ideen zu machen und diese zur
  Diskussion mitzubringen\, da wir den Abend nicht als eine reine „Zuruf
 “-Analyse verlaufen lassen möchten.\nBitte haben Sie Verständnis dafü
 r\, wenn Exoten\, der eine oder andere Pennystock oder ein außergewöhnli
 cher Index unter Umständen nicht analysiert werden kann\, wenn ausgerechn
 et dieser Wert nicht in der Datenbank der Chartsoftware enthalten ist.\nWi
 r freuen uns auf einen spannenden und abwechslungsreichen Abend!\n&nbsp\;\
 nIhr Referent:\nDer gelernte Jurist Ralf Fayad beschäftigt sich seit Mitt
 e der Neunziger Jahre intensiv mit der Technischen Analyse. Zunächst als 
 Trader im Eigenhandel und seit 2005 als freiberuflicher Wirtschaftsjournal
 ist und Autor mehrerer täglich erscheinender Trading-Newsletter für dive
 rse Finanzinstitute weltweit. Seit 2011 schreibt der zertifizierte Technis
 che Analyst (CFTe) unter anderem den täglich erscheinenden Trading-Newsle
 tter der Société Générale „ideas daily“ (ehemals Commerzbank). Dan
 eben ist Herr Fayad in der Vereinigung Technischer Analysten Deutschlands 
 (VTAD) als stellvertretender Regionalmanager und Ausbildungsbeauftragter d
 er Regionalgruppe Nürnberg aktiv. Er gehört zudem regelmäßig zum Refer
 entenkreis auf der VTAD-Frühjahrskonferenz und verschiedenen Börsentagen
 . In Vorträgen\, Seminaren\, Webinaren\, Workshops und als Trading-Mentor
 /Trading-Coach gibt er sein Wissen und seine langjährigen Erfahrungen an 
 angehende Trader weiter.
CATEGORIES:Nürnberg
LOCATION:eckstein haus der evang.-luth. kirche nürnberg
X-APPLE-STRUCTURED-LOCATION;VALUE=URI;X-ADDRESS=Burgstrasse 1-3\, Raum 1.01
 \, Nürnberg\, 90403 \, Bayern\, Deutschland;X-APPLE-RADIUS=100;X-TITLE=ec
 kstein haus der evang.-luth. kirche nürnberg:geo:0,0
END:VEVENT
BEGIN:VTIMEZONE
TZID:Europe/Berlin
X-LIC-LOCATION:Europe/Berlin
BEGIN:STANDARD
DTSTART:20231029T020000
TZOFFSETFROM:+0200
TZOFFSETTO:+0100
TZNAME:CET
END:STANDARD
END:VTIMEZONE
END:VCALENDAR