BEGIN:VCALENDAR
VERSION:2.0
PRODID:-//wp-events-plugin.com//7.2.3.1//EN
TZID:Europe/Berlin
X-WR-TIMEZONE:Europe/Berlin
BEGIN:VEVENT
UID:833@vtad.de
DTSTART;TZID=Europe/Berlin:20240717T183000
DTEND;TZID=Europe/Berlin:20240717T210000
DTSTAMP:20240724T141603Z
URL:https://www.vtad.de/rgt/technische-analyse-von-mitgliedern-fuer-mitgli
 eder-workshop-4/
SUMMARY:Technische Analyse von Mitgliedern für Mitglieder (Workshop)
DESCRIPTION:Vortragsunterlagen (bitte einloggen): [members_logged_in] Markt
 breite_VTAD_170724[/members_logged_in]\nZur Halbzeit des laufenden Börsen
 jahres möchten wir wieder mit Ihnen gemeinsam die aktuelle Lage verschied
 ener Märkte\, Aktien und Assets beleuchten und dabei mit Ihnen gemeinsam 
 die praktische Anwendung der Technischen Analyse üben und vertiefen. Dazu
  ist IHRE aktive Mitarbeit gefragt\, denn Sie bestimmen\, welche Werte\, I
 ndizes\, Währungen oder Edelmetalle untersucht werden. Vielleicht haben S
 ie eine interessante Aktie auf Ihrer Watchlist und möchten wissen\, ob ei
 n Einstieg (long oder short) aussichtsreich erscheint? Sehen Sie in einem 
 Währungschart eine interessante Formation oder hat ein Indikator für ein
 en Rohstoff ein Verkaufssignal generiert\, Sie sind sich aber nicht sicher
 \, wie dieses Signal zu bewerten ist?  Bringen Sie Ihre Trading-Idee oder
  Fragen mit!\n&nbsp\;\nRalf Fayad (CFTe) wird am Laptop den Chart Ihres We
 rtes aufrufen\, gemeinsam mit dem Auditorium werden wir über das Chartbil
 d\, Indikatoren usw. diskutieren und versuchen\, eine technische Analyse z
 u erstellen. Gerne können Sie uns Ihre Idee auch vorab per Mail schicken:
  rm.nuernberg@vtad.de\n\nWir wünschen uns eine abwechslungsreiche Diskuss
 ion mit Ihnen gemeinsam\, in der die Anwendung der technischen Analyse im 
 Mittelpunkt stehen soll. Gerne können Sie auch gezielt spezielle Fragen z
 ur Technischen Analyse stellen. In diesem Workshop geht es um Praxis\, Pra
 xis\, Praxis...\nWir freuen uns auf einen spannenden und abwechslungsreich
 en Abend!\n\nIhr Referent:\nDer gelernte Jurist Ralf Fayad beschäftigt si
 ch seit Mitte der Neunziger Jahre intensiv mit der Technischen Analyse. Zu
 nächst als Trader im Eigenhandel und seit 2005 als freiberuflicher Wirtsc
 haftsjournalist und Autor mehrerer täglich erscheinender Trading-Newslett
 er für diverse Finanzinstitute weltweit. Seit 2011 schreibt der zertifizi
 erte Technische Analyst (CFTe) unter anderem den täglich erscheinenden Tr
 ading-Newsletter der Société Générale „ideas daily“ (ehemals Comme
 rzbank). Daneben ist Herr Fayad in der Vereinigung Technischer Analysten D
 eutschlands (VTAD) als stellvertretender Regionalmanager und Ausbildungsbe
 auftragter der Regionalgruppe Nürnberg aktiv. Er gehört zudem regelmäß
 ig zum Referentenkreis auf der VTAD-Frühjahrskonferenz und verschiedenen 
 Börsentagen. In Vorträgen\, Seminaren\, Webinaren\, Workshops und als Tr
 ading-Mentor/Trading-Coach gibt er sein Wissen und seine langjährigen Erf
 ahrungen an angehende Trader weiter.
CATEGORIES:Nürnberg
LOCATION:eckstein haus der evang.-luth. kirche nürnberg
X-APPLE-STRUCTURED-LOCATION;VALUE=URI;X-ADDRESS=Burgstrasse 1-3\, Raum 1.01
 \, Nürnberg\, 90403 \, Bayern\, Deutschland;X-APPLE-RADIUS=100;X-TITLE=ec
 kstein haus der evang.-luth. kirche nürnberg:geo:0,0
END:VEVENT
BEGIN:VTIMEZONE
TZID:Europe/Berlin
X-LIC-LOCATION:Europe/Berlin
BEGIN:DAYLIGHT
DTSTART:20240331T030000
TZOFFSETFROM:+0100
TZOFFSETTO:+0200
TZNAME:CEST
END:DAYLIGHT
END:VTIMEZONE
END:VCALENDAR